BEGIN:VCALENDAR
VERSION:2.0
PRODID:-//AusschreibungsRadar//Timeline//DE
CALSCALE:GREGORIAN
METHOD:PUBLISH
X-WR-CALNAME:Projekt Neubau Feuerwehrgerätehaus - Außenanlagen
X-WR-TIMEZONE:Europe/Berlin
BEGIN:VEVENT
UID:b13228f35f686e8c@ausschreibungsradar.com
DTSTAMP:20260425T155122Z
DTSTART;VALUE=DATE:20250327
DTEND;VALUE=DATE:20250327
SUMMARY:Angebotsfrist — Neubau Feuerwehrgerätehaus - Außenanlagen
DESCRIPTION:Phase: Ausschreibung | Beschreibung: Angebote werden eingeholt | Link: https://ausschreibungsradar.com/ausschreibung/7ec7f4a5-6d9e-47ff-9aa0-e7a4561d6a28/
URL:https://ausschreibungsradar.com/ausschreibung/7ec7f4a5-6d9e-47ff-9aa0-e7a4561d6a28/
END:VEVENT
BEGIN:VEVENT
UID:377a6572958da916@ausschreibungsradar.com
DTSTAMP:20260425T155122Z
DTSTART;VALUE=DATE:20250423
DTEND;VALUE=DATE:20250423
SUMMARY:Vergabeergebnis — Neubau Feuerwehrgerätehaus - Außenanlagen
DESCRIPTION:Phase: Vergabeergebnis | Beschreibung: Auftrag wurde zugeschlagen | Link: https://ausschreibungsradar.com/ausschreibung/711efb9b-cac7-4b26-86de-a2ecdc0a0862/
URL:https://ausschreibungsradar.com/ausschreibung/711efb9b-cac7-4b26-86de-a2ecdc0a0862/
END:VEVENT
END:VCALENDAR
