BEGIN:VCALENDAR
VERSION:2.0
PRODID:-//AusschreibungsRadar//Timeline//DE
CALSCALE:GREGORIAN
METHOD:PUBLISH
X-WR-CALNAME:Projekt Erneuerung/Neubau der Lichtsignalanlage (LSA) 554 Brackweder
X-WR-TIMEZONE:Europe/Berlin
BEGIN:VEVENT
UID:69ebcb9e65f87c28@ausschreibungsradar.com
DTSTAMP:20260424T015520Z
DTSTART;VALUE=DATE:20250623
DTEND;VALUE=DATE:20250623
SUMMARY:Angebotsfrist — Erneuerung/Neubau der Lichtsignalanlage (LSA) 554 Brackweder
DESCRIPTION:Phase: Ausschreibung | Beschreibung: Angebote werden eingeholt | Link: https://ausschreibungsradar.com/ausschreibung/7ef75724-441e-4f46-86ca-54c4c08f2ea6/
URL:https://ausschreibungsradar.com/ausschreibung/7ef75724-441e-4f46-86ca-54c4c08f2ea6/
END:VEVENT
END:VCALENDAR
