BEGIN:VCALENDAR
VERSION:2.0
PRODID:-//AusschreibungsRadar//Timeline//DE
CALSCALE:GREGORIAN
METHOD:PUBLISH
X-WR-CALNAME:Projekt Lieferung von elektrischer Energie für die Stadt Ottweiler
X-WR-TIMEZONE:Europe/Berlin
BEGIN:VEVENT
UID:3baabdf8bfd39013@ausschreibungsradar.com
DTSTAMP:20260424T103456Z
DTSTART;VALUE=DATE:20250603
DTEND;VALUE=DATE:20250603
SUMMARY:Angebotsfrist — Lieferung von elektrischer Energie für die Stadt Ottweiler
DESCRIPTION:Phase: Ausschreibung | Beschreibung: Angebote werden eingeholt | Link: https://ausschreibungsradar.com/ausschreibung/7fd3fbe2-e62c-4883-9a52-c101ba3a1713/
URL:https://ausschreibungsradar.com/ausschreibung/7fd3fbe2-e62c-4883-9a52-c101ba3a1713/
END:VEVENT
END:VCALENDAR
