BEGIN:VCALENDAR
VERSION:2.0
PRODID:-//AusschreibungsRadar//Timeline//DE
CALSCALE:GREGORIAN
METHOD:PUBLISH
X-WR-CALNAME:Projekt Einbaumobilierung (DG) I Bildungshaus Winkelwiese
X-WR-TIMEZONE:Europe/Berlin
BEGIN:VEVENT
UID:b3ca4e911d3c868c@ausschreibungsradar.com
DTSTAMP:20260424T230344Z
DTSTART;VALUE=DATE:20260427
DTEND;VALUE=DATE:20260427
SUMMARY:Angebotsfrist — Einbaumobilierung (DG) I Bildungshaus Winkelwiese
DESCRIPTION:Phase: Ausschreibung | Beschreibung: Angebote werden eingeholt | Link: https://ausschreibungsradar.com/ausschreibung/7fe75fa1-9331-467c-a377-427561c03de0/
URL:https://ausschreibungsradar.com/ausschreibung/7fe75fa1-9331-467c-a377-427561c03de0/
END:VEVENT
BEGIN:VEVENT
UID:b8d0d8e78aa25fae@ausschreibungsradar.com
DTSTAMP:20260424T230344Z
DTSTART;VALUE=DATE:20260324
DTEND;VALUE=DATE:20260324
SUMMARY:Ausschreibung — Einbaumobilierung (DG) I Bildungshaus Winkelwiese
DESCRIPTION:Phase: Ausschreibung | Beschreibung: Offizielle Ausschreibung mit Bieterfrist. | Link: https://ausschreibungsradar.com/ausschreibung/f1ae80c8-2d2b-4bee-b47d-cf36ea86f0ce/
URL:https://ausschreibungsradar.com/ausschreibung/f1ae80c8-2d2b-4bee-b47d-cf36ea86f0ce/
END:VEVENT
END:VCALENDAR
