BEGIN:VCALENDAR
VERSION:2.0
PRODID:-//AusschreibungsRadar//Timeline//DE
CALSCALE:GREGORIAN
METHOD:PUBLISH
X-WR-CALNAME:Projekt Objektplanungsleistungen, LPH 3-8, § 34 HOAI zur Errichtung 
X-WR-TIMEZONE:Europe/Berlin
BEGIN:VEVENT
UID:2fb632fb2f8431fa@ausschreibungsradar.com
DTSTAMP:20260425T154428Z
DTSTART;VALUE=DATE:20241108
DTEND;VALUE=DATE:20241108
SUMMARY:Ausschreibung — Objektplanungsleistungen\, LPH 3-8\, § 34 HOAI zur Errichtung 
DESCRIPTION:Phase: Ausschreibung | Beschreibung: Angebote werden eingeholt | Link: https://ausschreibungsradar.com/ausschreibung/8293392c-33ee-4bf6-bd38-89de3e298ee5/
URL:https://ausschreibungsradar.com/ausschreibung/8293392c-33ee-4bf6-bd38-89de3e298ee5/
END:VEVENT
BEGIN:VEVENT
UID:43b0c7f683eb614f@ausschreibungsradar.com
DTSTAMP:20260425T154428Z
DTSTART;VALUE=DATE:20241108
DTEND;VALUE=DATE:20241108
SUMMARY:Ausschreibung — Objektplanungsleistungen\, LPH 3-8\, § 34 HOAI zur Errichtung 
DESCRIPTION:Phase: Ausschreibung | Beschreibung: Offizielle Ausschreibung mit Bieterfrist. | Link: https://ausschreibungsradar.com/ausschreibung/2a24e340-87c4-4976-bb1a-89c2967fec18/
URL:https://ausschreibungsradar.com/ausschreibung/2a24e340-87c4-4976-bb1a-89c2967fec18/
END:VEVENT
END:VCALENDAR
