BEGIN:VCALENDAR
VERSION:2.0
PRODID:-//AusschreibungsRadar//Timeline//DE
CALSCALE:GREGORIAN
METHOD:PUBLISH
X-WR-CALNAME:Projekt A15 km 42,5-48,0 FR Berlin, Erhaltungsmaßnahme Los 2 Verkehr
X-WR-TIMEZONE:Europe/Berlin
BEGIN:VEVENT
UID:933501adcf8beae1@ausschreibungsradar.com
DTSTAMP:20260423T223440Z
DTSTART;VALUE=DATE:20251222
DTEND;VALUE=DATE:20251222
SUMMARY:Angebotsfrist — A15 km 42\,5-48\,0 FR Berlin\, Erhaltungsmaßnahme Los 2 Verkehr
DESCRIPTION:Phase: Ausschreibung | Beschreibung: Angebote werden eingeholt | Link: https://ausschreibungsradar.com/ausschreibung/835c62c6-e52d-41e5-9e41-7db826c227d9/
URL:https://ausschreibungsradar.com/ausschreibung/835c62c6-e52d-41e5-9e41-7db826c227d9/
END:VEVENT
BEGIN:VEVENT
UID:6907ff457c4a0d24@ausschreibungsradar.com
DTSTAMP:20260423T223440Z
DTSTART;VALUE=DATE:20251119
DTEND;VALUE=DATE:20251119
SUMMARY:Ausschreibung — A15 km 42\,5-48\,0 FR Berlin\, Erhaltungsmaßnahme Los 2 Verkehr
DESCRIPTION:Phase: Ausschreibung | Beschreibung: Offizielle Ausschreibung mit Bieterfrist. | Link: https://ausschreibungsradar.com/ausschreibung/0bcfac1b-2531-4423-b9a6-5b19eb8845e3/
URL:https://ausschreibungsradar.com/ausschreibung/0bcfac1b-2531-4423-b9a6-5b19eb8845e3/
END:VEVENT
BEGIN:VEVENT
UID:6891d5f1a975c117@ausschreibungsradar.com
DTSTAMP:20260423T223440Z
DTSTART;VALUE=DATE:20251119
DTEND;VALUE=DATE:20251119
SUMMARY:Ausschreibung — A15 km 42\,5-48\,0 FR Berlin\, Erhaltungsmaßnahme Los 2 Verkehr
DESCRIPTION:Phase: Ausschreibung | Beschreibung: Offizielle Ausschreibung mit Bieterfrist. | Link: https://ausschreibungsradar.com/ausschreibung/6baa93c0-84cc-497e-9c71-d147b37d7142/
URL:https://ausschreibungsradar.com/ausschreibung/6baa93c0-84cc-497e-9c71-d147b37d7142/
END:VEVENT
BEGIN:VEVENT
UID:8100e5e99236935d@ausschreibungsradar.com
DTSTAMP:20260423T223440Z
DTSTART;VALUE=DATE:20251119
DTEND;VALUE=DATE:20251119
SUMMARY:Ausschreibung — A15 km 42\,5-48\,0 FR Berlin\, Erhaltungsmaßnahme Los 2 Verkehr
DESCRIPTION:Phase: Ausschreibung | Beschreibung: Offizielle Ausschreibung mit Bieterfrist. | Link: https://ausschreibungsradar.com/ausschreibung/36e8663a-48fe-4d27-8c48-9b80267fb316/
URL:https://ausschreibungsradar.com/ausschreibung/36e8663a-48fe-4d27-8c48-9b80267fb316/
END:VEVENT
BEGIN:VEVENT
UID:86f5fe2a2df28d68@ausschreibungsradar.com
DTSTAMP:20260423T223440Z
DTSTART;VALUE=DATE:20251124
DTEND;VALUE=DATE:20251124
SUMMARY:Ausschreibung — A15 km 42\,5-48\,0 FR Berlin\, Erhaltungsmaßnahme Los 2 Verkehr
DESCRIPTION:Phase: Ausschreibung | Beschreibung: Offizielle Ausschreibung mit Bieterfrist. | Link: https://ausschreibungsradar.com/ausschreibung/24693148/
URL:https://ausschreibungsradar.com/ausschreibung/24693148/
END:VEVENT
BEGIN:VEVENT
UID:02605c690c4f47d7@ausschreibungsradar.com
DTSTAMP:20260423T223440Z
DTSTART;VALUE=DATE:20260220
DTEND;VALUE=DATE:20260220
SUMMARY:Vergabeergebnis — A15 km 42\,5-48\,0 FR Berlin\, Erhaltungsmaßnahme Los 2 Verkehr
DESCRIPTION:Phase: Vergabeergebnis | Beschreibung: Auftrag wurde zugeschlagen | Link: https://ausschreibungsradar.com/ausschreibung/b711d6b3-1aab-4fa2-a7e8-499c5e1719db/
URL:https://ausschreibungsradar.com/ausschreibung/b711d6b3-1aab-4fa2-a7e8-499c5e1719db/
END:VEVENT
END:VCALENDAR
