BEGIN:VCALENDAR
VERSION:2.0
PRODID:-//AusschreibungsRadar//Timeline//DE
CALSCALE:GREGORIAN
METHOD:PUBLISH
X-WR-CALNAME:Projekt Bad Liebenstein, Schloss und Park Altenstein, Schloss Altens
X-WR-TIMEZONE:Europe/Berlin
BEGIN:VEVENT
UID:534822a477fb146c@ausschreibungsradar.com
DTSTAMP:20260425T220949Z
DTSTART;VALUE=DATE:20250331
DTEND;VALUE=DATE:20250331
SUMMARY:Angebotsfrist — Bad Liebenstein\, Schloss und Park Altenstein\, Schloss Altens
DESCRIPTION:Phase: Ausschreibung | Beschreibung: Angebote werden eingeholt | Link: https://ausschreibungsradar.com/ausschreibung/45c0381d-2a9b-4330-ac7d-827521b1e552/
URL:https://ausschreibungsradar.com/ausschreibung/45c0381d-2a9b-4330-ac7d-827521b1e552/
END:VEVENT
BEGIN:VEVENT
UID:1fc2b3ffcf9e7711@ausschreibungsradar.com
DTSTAMP:20260425T220949Z
DTSTART;VALUE=DATE:20251015
DTEND;VALUE=DATE:20251015
SUMMARY:Ausschreibung — Bad Liebenstein\, Schloss und Park Altenstein\, Schloss Altens
DESCRIPTION:Phase: Ausschreibung | Beschreibung: Offizielle Ausschreibung mit Bieterfrist. | Link: https://ausschreibungsradar.com/ausschreibung/9ed5c7fa-fbed-4bd6-a67f-3fe32f4d4557/
URL:https://ausschreibungsradar.com/ausschreibung/9ed5c7fa-fbed-4bd6-a67f-3fe32f4d4557/
END:VEVENT
BEGIN:VEVENT
UID:54250a7942c8743d@ausschreibungsradar.com
DTSTAMP:20260425T220949Z
DTSTART;VALUE=DATE:20251111
DTEND;VALUE=DATE:20251111
SUMMARY:Vergabeergebnis — Bad Liebenstein\, Schloss und Park Altenstein\, Schloss Altens
DESCRIPTION:Phase: Vergabeergebnis | Beschreibung: Auftrag wurde zugeschlagen | Link: https://ausschreibungsradar.com/ausschreibung/838f66bb-8f1a-4a13-a8a7-b3bb6fdcce24/
URL:https://ausschreibungsradar.com/ausschreibung/838f66bb-8f1a-4a13-a8a7-b3bb6fdcce24/
END:VEVENT
BEGIN:VEVENT
UID:71cec1778d0dcc33@ausschreibungsradar.com
DTSTAMP:20260425T220949Z
DTSTART;VALUE=DATE:20251121
DTEND;VALUE=DATE:20251121
SUMMARY:Zuschlag — Bad Liebenstein\, Schloss und Park Altenstein\, Schloss Altens
DESCRIPTION:Phase: Zuschlag | Beschreibung: Vergabeergebnis — Auftrag wurde erteilt oder Verfahren beendet. | Link: https://ausschreibungsradar.com/ausschreibung/aff2e416-148e-4f37-847e-3447a3610c48/
URL:https://ausschreibungsradar.com/ausschreibung/aff2e416-148e-4f37-847e-3447a3610c48/
END:VEVENT
END:VCALENDAR
