BEGIN:VCALENDAR
VERSION:2.0
PRODID:-//AusschreibungsRadar//Timeline//DE
CALSCALE:GREGORIAN
METHOD:PUBLISH
X-WR-CALNAME:Projekt IO: Planungsleistungen für Wärmeschutz und Energiebilanzieru
X-WR-TIMEZONE:Europe/Berlin
BEGIN:VEVENT
UID:37523ab7f2101696@ausschreibungsradar.com
DTSTAMP:20260424T162857Z
DTSTART;VALUE=DATE:20241108
DTEND;VALUE=DATE:20241108
SUMMARY:Ausschreibung — IO: Planungsleistungen für Wärmeschutz und Energiebilanzieru
DESCRIPTION:Phase: Ausschreibung | Beschreibung: Angebote werden eingeholt | Link: https://ausschreibungsradar.com/ausschreibung/9950f4f4-272d-4300-a883-e97bb8852e84/
URL:https://ausschreibungsradar.com/ausschreibung/9950f4f4-272d-4300-a883-e97bb8852e84/
END:VEVENT
BEGIN:VEVENT
UID:4e40e468fbb98540@ausschreibungsradar.com
DTSTAMP:20260424T162857Z
DTSTART;VALUE=DATE:20250520
DTEND;VALUE=DATE:20250520
SUMMARY:Vergabeergebnis — IO: Planungsleistungen für Wärmeschutz und Energiebilanzieru
DESCRIPTION:Phase: Vergabeergebnis | Beschreibung: Auftrag wurde zugeschlagen | Link: https://ausschreibungsradar.com/ausschreibung/83a24781-816c-40e2-aa68-d2ef2cb71774/
URL:https://ausschreibungsradar.com/ausschreibung/83a24781-816c-40e2-aa68-d2ef2cb71774/
END:VEVENT
BEGIN:VEVENT
UID:8c44e4c8c9d15411@ausschreibungsradar.com
DTSTAMP:20260424T162857Z
DTSTART;VALUE=DATE:20250611
DTEND;VALUE=DATE:20250611
SUMMARY:Zuschlag — IO: Planungsleistungen für Wärmeschutz und Energiebilanzieru
DESCRIPTION:Phase: Zuschlag | Beschreibung: Vergabeergebnis — Auftrag wurde erteilt oder Verfahren beendet. | Link: https://ausschreibungsradar.com/ausschreibung/1f417796-6ea7-4bda-814d-3179ce33e165/
URL:https://ausschreibungsradar.com/ausschreibung/1f417796-6ea7-4bda-814d-3179ce33e165/
END:VEVENT
END:VCALENDAR
