BEGIN:VCALENDAR
VERSION:2.0
PRODID:-//AusschreibungsRadar//Timeline//DE
CALSCALE:GREGORIAN
METHOD:PUBLISH
X-WR-CALNAME:Projekt Bahnhof Gotha - Mobilitätsknoten im Gunstraum Thüringen . Um
X-WR-TIMEZONE:Europe/Berlin
BEGIN:VEVENT
UID:20f4710b016978e3@ausschreibungsradar.com
DTSTAMP:20260424T155341Z
DTSTART;VALUE=DATE:20260116
DTEND;VALUE=DATE:20260116
SUMMARY:Angebotsfrist — Bahnhof Gotha - Mobilitätsknoten im Gunstraum Thüringen . Um
DESCRIPTION:Phase: Ausschreibung | Beschreibung: Angebote werden eingeholt | Link: https://ausschreibungsradar.com/ausschreibung/ebe66928-68b7-4f40-a738-470e6f011e5a/
URL:https://ausschreibungsradar.com/ausschreibung/ebe66928-68b7-4f40-a738-470e6f011e5a/
END:VEVENT
BEGIN:VEVENT
UID:4def15bd8d0f58c2@ausschreibungsradar.com
DTSTAMP:20260424T155341Z
DTSTART;VALUE=DATE:20260208
DTEND;VALUE=DATE:20260208
SUMMARY:Ausschreibung — Bahnhof Gotha - Mobilitätsknoten im Gunstraum Thüringen . Um
DESCRIPTION:Phase: Ausschreibung | Beschreibung: Offizielle Ausschreibung mit Bieterfrist. | Link: https://ausschreibungsradar.com/ausschreibung/792635c4-4d60-4b22-8277-73965d04cf56/
URL:https://ausschreibungsradar.com/ausschreibung/792635c4-4d60-4b22-8277-73965d04cf56/
END:VEVENT
BEGIN:VEVENT
UID:ab003829dadee216@ausschreibungsradar.com
DTSTAMP:20260424T155341Z
DTSTART;VALUE=DATE:20260211
DTEND;VALUE=DATE:20260211
SUMMARY:Vergabeergebnis — Bahnhof Gotha - Mobilitätsknoten im Gunstraum Thüringen . Um
DESCRIPTION:Phase: Vergabeergebnis | Beschreibung: Auftrag wurde zugeschlagen | Link: https://ausschreibungsradar.com/ausschreibung/83dca43f-9276-4da6-a1cb-bd0b4fdc24d3/
URL:https://ausschreibungsradar.com/ausschreibung/83dca43f-9276-4da6-a1cb-bd0b4fdc24d3/
END:VEVENT
BEGIN:VEVENT
UID:63b54ba698eef964@ausschreibungsradar.com
DTSTAMP:20260424T155341Z
DTSTART;VALUE=DATE:20260211
DTEND;VALUE=DATE:20260211
SUMMARY:Zuschlag — Bahnhof Gotha - Mobilitätsknoten im Gunstraum Thüringen . Um
DESCRIPTION:Phase: Zuschlag | Beschreibung: Vergabeergebnis — Auftrag wurde erteilt oder Verfahren beendet. | Link: https://ausschreibungsradar.com/ausschreibung/fab153ab-4ad2-47e6-9efb-954ab57d1b38/
URL:https://ausschreibungsradar.com/ausschreibung/fab153ab-4ad2-47e6-9efb-954ab57d1b38/
END:VEVENT
BEGIN:VEVENT
UID:ced78ba5d7dd8ed9@ausschreibungsradar.com
DTSTAMP:20260424T155341Z
DTSTART;VALUE=DATE:20260306
DTEND;VALUE=DATE:20260306
SUMMARY:Ausschreibung — Bahnhof Gotha - Mobilitätsknoten im Gunstraum Thüringen . Um
DESCRIPTION:Phase: Ausschreibung | Beschreibung: Offizielle Ausschreibung mit Bieterfrist. | Link: https://ausschreibungsradar.com/ausschreibung/5a2e4b12-1c15-405a-83c6-6cacc68ff544/
URL:https://ausschreibungsradar.com/ausschreibung/5a2e4b12-1c15-405a-83c6-6cacc68ff544/
END:VEVENT
END:VCALENDAR
