BEGIN:VCALENDAR
VERSION:2.0
PRODID:-//AusschreibungsRadar//Timeline//DE
CALSCALE:GREGORIAN
METHOD:PUBLISH
X-WR-CALNAME:Projekt Implementierung eines Intelligenten Heizungsmanagementsystem
X-WR-TIMEZONE:Europe/Berlin
BEGIN:VEVENT
UID:576267801610536a@ausschreibungsradar.com
DTSTAMP:20260425T143718Z
DTSTART;VALUE=DATE:20250909
DTEND;VALUE=DATE:20250909
SUMMARY:Angebotsfrist — Implementierung eines Intelligenten Heizungsmanagementsystem
DESCRIPTION:Phase: Ausschreibung | Beschreibung: Angebote werden eingeholt | Link: https://ausschreibungsradar.com/ausschreibung/841bdb3f-ef7a-4a1a-a98e-a6fda8b1eb1d/
URL:https://ausschreibungsradar.com/ausschreibung/841bdb3f-ef7a-4a1a-a98e-a6fda8b1eb1d/
END:VEVENT
BEGIN:VEVENT
UID:1714e2b57ae05c67@ausschreibungsradar.com
DTSTAMP:20260425T143718Z
DTSTART;VALUE=DATE:20250717
DTEND;VALUE=DATE:20250717
SUMMARY:Ausschreibung — Implementierung eines Intelligenten Heizungsmanagementsystem
DESCRIPTION:Phase: Ausschreibung | Beschreibung: Offizielle Ausschreibung mit Bieterfrist. | Link: https://ausschreibungsradar.com/ausschreibung/3765b75b-184b-44fd-8c62-2a1ef2bf7401/
URL:https://ausschreibungsradar.com/ausschreibung/3765b75b-184b-44fd-8c62-2a1ef2bf7401/
END:VEVENT
BEGIN:VEVENT
UID:f2f1c9bb854421d9@ausschreibungsradar.com
DTSTAMP:20260425T143718Z
DTSTART;VALUE=DATE:20250717
DTEND;VALUE=DATE:20250717
SUMMARY:Ausschreibung — Implementierung eines Intelligenten Heizungsmanagementsystem
DESCRIPTION:Phase: Ausschreibung | Beschreibung: Offizielle Ausschreibung mit Bieterfrist. | Link: https://ausschreibungsradar.com/ausschreibung/a52c4295-10d5-4f58-b550-bfe97552866f/
URL:https://ausschreibungsradar.com/ausschreibung/a52c4295-10d5-4f58-b550-bfe97552866f/
END:VEVENT
END:VCALENDAR
