BEGIN:VCALENDAR
VERSION:2.0
PRODID:-//AusschreibungsRadar//Timeline//DE
CALSCALE:GREGORIAN
METHOD:PUBLISH
X-WR-CALNAME:Projekt Technisches Gebäudemanagement für die Liegenschaften für die
X-WR-TIMEZONE:Europe/Berlin
BEGIN:VEVENT
UID:e57951d9e54de079@ausschreibungsradar.com
DTSTAMP:20260424T155343Z
DTSTART;VALUE=DATE:20250523
DTEND;VALUE=DATE:20250523
SUMMARY:Ausschreibung — Technisches Gebäudemanagement für die Liegenschaften für die
DESCRIPTION:Phase: Ausschreibung | Beschreibung: Angebote werden eingeholt | Link: https://ausschreibungsradar.com/ausschreibung/dbc7715d-fdb8-4b7f-b6c7-93ef561a00d2/
URL:https://ausschreibungsradar.com/ausschreibung/dbc7715d-fdb8-4b7f-b6c7-93ef561a00d2/
END:VEVENT
BEGIN:VEVENT
UID:9cb02b70ea29ad7c@ausschreibungsradar.com
DTSTAMP:20260424T155343Z
DTSTART;VALUE=DATE:20251118
DTEND;VALUE=DATE:20251118
SUMMARY:Vergabeergebnis — Technisches Gebäudemanagement für die Liegenschaften für die
DESCRIPTION:Phase: Vergabeergebnis | Beschreibung: Auftrag wurde zugeschlagen | Link: https://ausschreibungsradar.com/ausschreibung/847deb24-65ca-49bb-bdf6-afba90c9a86f/
URL:https://ausschreibungsradar.com/ausschreibung/847deb24-65ca-49bb-bdf6-afba90c9a86f/
END:VEVENT
BEGIN:VEVENT
UID:81b8931d326df905@ausschreibungsradar.com
DTSTAMP:20260424T155343Z
DTSTART;VALUE=DATE:20251126
DTEND;VALUE=DATE:20251126
SUMMARY:Ausschreibung — Technisches Gebäudemanagement für die Liegenschaften für die
DESCRIPTION:Phase: Ausschreibung | Beschreibung: Offizielle Ausschreibung mit Bieterfrist. | Link: https://ausschreibungsradar.com/ausschreibung/119bda6c-0536-4b87-ad5c-9ebe34c1df60/
URL:https://ausschreibungsradar.com/ausschreibung/119bda6c-0536-4b87-ad5c-9ebe34c1df60/
END:VEVENT
BEGIN:VEVENT
UID:ce8ee71fa83212d7@ausschreibungsradar.com
DTSTAMP:20260424T155343Z
DTSTART;VALUE=DATE:20251126
DTEND;VALUE=DATE:20251126
SUMMARY:Ausschreibung — Technisches Gebäudemanagement für die Liegenschaften für die
DESCRIPTION:Phase: Ausschreibung | Beschreibung: Offizielle Ausschreibung mit Bieterfrist. | Link: https://ausschreibungsradar.com/ausschreibung/9388f3ea-9373-40d5-b074-3e08aba6830f/
URL:https://ausschreibungsradar.com/ausschreibung/9388f3ea-9373-40d5-b074-3e08aba6830f/
END:VEVENT
BEGIN:VEVENT
UID:49abdcaf64c8f68c@ausschreibungsradar.com
DTSTAMP:20260424T155343Z
DTSTART;VALUE=DATE:20251211
DTEND;VALUE=DATE:20251211
SUMMARY:Ausschreibung — Technisches Gebäudemanagement für die Liegenschaften für die
DESCRIPTION:Phase: Ausschreibung | Beschreibung: Offizielle Ausschreibung mit Bieterfrist. | Link: https://ausschreibungsradar.com/ausschreibung/eabb0c98-89c2-46ed-a32b-666dd7b39955/
URL:https://ausschreibungsradar.com/ausschreibung/eabb0c98-89c2-46ed-a32b-666dd7b39955/
END:VEVENT
END:VCALENDAR
