BEGIN:VCALENDAR
VERSION:2.0
PRODID:-//AusschreibungsRadar//Timeline//DE
CALSCALE:GREGORIAN
METHOD:PUBLISH
X-WR-CALNAME:Projekt H2G Planung Reallabor Wasserstoff
X-WR-TIMEZONE:Europe/Berlin
BEGIN:VEVENT
UID:f5e90a1cfbb40787@ausschreibungsradar.com
DTSTAMP:20260425T013452Z
DTSTART;VALUE=DATE:20260304
DTEND;VALUE=DATE:20260304
SUMMARY:Ausschreibung — H2G Planung Reallabor Wasserstoff
DESCRIPTION:Phase: Ausschreibung | Beschreibung: Offizielle Ausschreibung mit Bieterfrist. | Link: https://ausschreibungsradar.com/ausschreibung/09664298-79e0-4976-ad7e-e51b88e22bb4/
URL:https://ausschreibungsradar.com/ausschreibung/09664298-79e0-4976-ad7e-e51b88e22bb4/
END:VEVENT
BEGIN:VEVENT
UID:233022d77b3a8b26@ausschreibungsradar.com
DTSTAMP:20260425T013452Z
DTSTART;VALUE=DATE:20260305
DTEND;VALUE=DATE:20260305
SUMMARY:Ausschreibung — H2G Planung Reallabor Wasserstoff
DESCRIPTION:Phase: Ausschreibung | Beschreibung: Angebote werden eingeholt | Link: https://ausschreibungsradar.com/ausschreibung/84b4aa4a-cbe6-4a9b-85c0-9b71d4be899a/
URL:https://ausschreibungsradar.com/ausschreibung/84b4aa4a-cbe6-4a9b-85c0-9b71d4be899a/
END:VEVENT
BEGIN:VEVENT
UID:9be44adfa3d1e78a@ausschreibungsradar.com
DTSTAMP:20260425T013452Z
DTSTART;VALUE=DATE:20260305
DTEND;VALUE=DATE:20260305
SUMMARY:Ausschreibung — H2G Planung Reallabor Wasserstoff
DESCRIPTION:Phase: Ausschreibung | Beschreibung: Offizielle Ausschreibung mit Bieterfrist. | Link: https://ausschreibungsradar.com/ausschreibung/b670987b-b3d4-4cd4-a98d-e1855c7db6be/
URL:https://ausschreibungsradar.com/ausschreibung/b670987b-b3d4-4cd4-a98d-e1855c7db6be/
END:VEVENT
BEGIN:VEVENT
UID:e25a6061ffd75319@ausschreibungsradar.com
DTSTAMP:20260425T013452Z
DTSTART;VALUE=DATE:20260305
DTEND;VALUE=DATE:20260305
SUMMARY:Ausschreibung — H2G Planung Reallabor Wasserstoff
DESCRIPTION:Phase: Ausschreibung | Beschreibung: Offizielle Ausschreibung mit Bieterfrist. | Link: https://ausschreibungsradar.com/ausschreibung/034df46b-4226-49e4-82be-94fc7548f938/
URL:https://ausschreibungsradar.com/ausschreibung/034df46b-4226-49e4-82be-94fc7548f938/
END:VEVENT
END:VCALENDAR
