BEGIN:VCALENDAR
VERSION:2.0
PRODID:-//AusschreibungsRadar//Timeline//DE
CALSCALE:GREGORIAN
METHOD:PUBLISH
X-WR-CALNAME:Projekt Leasing von Bekleidung für den Rettungsdienst
X-WR-TIMEZONE:Europe/Berlin
BEGIN:VEVENT
UID:54b826b5178dac6e@ausschreibungsradar.com
DTSTAMP:20260426T005754Z
DTSTART;VALUE=DATE:20260119
DTEND;VALUE=DATE:20260119
SUMMARY:Angebotsfrist — Leasing von Bekleidung für den Rettungsdienst
DESCRIPTION:Phase: Ausschreibung | Beschreibung: Angebote werden eingeholt | Link: https://ausschreibungsradar.com/ausschreibung/84eba1e0-8532-433d-bbf4-5612b859a36a/
URL:https://ausschreibungsradar.com/ausschreibung/84eba1e0-8532-433d-bbf4-5612b859a36a/
END:VEVENT
BEGIN:VEVENT
UID:cff486136319fb2f@ausschreibungsradar.com
DTSTAMP:20260426T005754Z
DTSTART;VALUE=DATE:20251118
DTEND;VALUE=DATE:20251118
SUMMARY:Ausschreibung — Leasing von Bekleidung für den Rettungsdienst
DESCRIPTION:Phase: Ausschreibung | Beschreibung: Offizielle Ausschreibung mit Bieterfrist. | Link: https://ausschreibungsradar.com/ausschreibung/c5d41875-23f6-4667-9450-c649faa85ee3/
URL:https://ausschreibungsradar.com/ausschreibung/c5d41875-23f6-4667-9450-c649faa85ee3/
END:VEVENT
BEGIN:VEVENT
UID:7f87171acdfdee08@ausschreibungsradar.com
DTSTAMP:20260426T005754Z
DTSTART;VALUE=DATE:20251118
DTEND;VALUE=DATE:20251118
SUMMARY:Ausschreibung — Leasing von Bekleidung für den Rettungsdienst
DESCRIPTION:Phase: Ausschreibung | Beschreibung: Offizielle Ausschreibung mit Bieterfrist. | Link: https://ausschreibungsradar.com/ausschreibung/4c39a884-0e54-4816-8118-6f1a3d422eb4/
URL:https://ausschreibungsradar.com/ausschreibung/4c39a884-0e54-4816-8118-6f1a3d422eb4/
END:VEVENT
BEGIN:VEVENT
UID:b67b058266e56e4d@ausschreibungsradar.com
DTSTAMP:20260426T005754Z
DTSTART;VALUE=DATE:20251118
DTEND;VALUE=DATE:20251118
SUMMARY:Ausschreibung — Leasing von Bekleidung für den Rettungsdienst
DESCRIPTION:Phase: Ausschreibung | Beschreibung: Offizielle Ausschreibung mit Bieterfrist. | Link: https://ausschreibungsradar.com/ausschreibung/7ec1b0ad-05d7-4779-9a1f-a8103731cddc/
URL:https://ausschreibungsradar.com/ausschreibung/7ec1b0ad-05d7-4779-9a1f-a8103731cddc/
END:VEVENT
BEGIN:VEVENT
UID:520950932c8885b3@ausschreibungsradar.com
DTSTAMP:20260426T005754Z
DTSTART;VALUE=DATE:20260309
DTEND;VALUE=DATE:20260309
SUMMARY:Vergabeergebnis — Leasing von Bekleidung für den Rettungsdienst
DESCRIPTION:Phase: Vergabeergebnis | Beschreibung: Auftrag wurde zugeschlagen | Link: https://ausschreibungsradar.com/ausschreibung/4fdf2249-a583-4772-8a0a-778132cf54be/
URL:https://ausschreibungsradar.com/ausschreibung/4fdf2249-a583-4772-8a0a-778132cf54be/
END:VEVENT
END:VCALENDAR
