BEGIN:VCALENDAR
VERSION:2.0
PRODID:-//AusschreibungsRadar//Timeline//DE
CALSCALE:GREGORIAN
METHOD:PUBLISH
X-WR-CALNAME:Projekt PSA Profischule Campus - Fassadenarbeiten - Holzfassade
X-WR-TIMEZONE:Europe/Berlin
BEGIN:VEVENT
UID:fe74036bcbd37438@ausschreibungsradar.com
DTSTAMP:20260424T054833Z
DTSTART;VALUE=DATE:20250305
DTEND;VALUE=DATE:20250305
SUMMARY:Angebotsfrist — PSA Profischule Campus - Fassadenarbeiten - Holzfassade
DESCRIPTION:Phase: Ausschreibung | Beschreibung: Angebote werden eingeholt | Link: https://ausschreibungsradar.com/ausschreibung/29aff987-bec9-48b8-9f64-f7fb68812dc6/
URL:https://ausschreibungsradar.com/ausschreibung/29aff987-bec9-48b8-9f64-f7fb68812dc6/
END:VEVENT
BEGIN:VEVENT
UID:5c3c9be98fd8d8ba@ausschreibungsradar.com
DTSTAMP:20260424T054833Z
DTSTART;VALUE=DATE:20250130
DTEND;VALUE=DATE:20250130
SUMMARY:Ausschreibung — PSA Profischule Campus - Fassadenarbeiten - Holzfassade
DESCRIPTION:Phase: Ausschreibung | Beschreibung: Offizielle Ausschreibung mit Bieterfrist. | Link: https://ausschreibungsradar.com/ausschreibung/04f2ff5e-5cc5-426b-81e7-003cf7d85eac/
URL:https://ausschreibungsradar.com/ausschreibung/04f2ff5e-5cc5-426b-81e7-003cf7d85eac/
END:VEVENT
BEGIN:VEVENT
UID:78e54f691593f521@ausschreibungsradar.com
DTSTAMP:20260424T054833Z
DTSTART;VALUE=DATE:20250414
DTEND;VALUE=DATE:20250414
SUMMARY:Zuschlag — PSA Profischule Campus - Fassadenarbeiten - Holzfassade
DESCRIPTION:Phase: Zuschlag | Beschreibung: Vergabeergebnis — Auftrag wurde erteilt oder Verfahren beendet. | Link: https://ausschreibungsradar.com/ausschreibung/a66e6d7b-f0e2-482a-9cc9-b90801fe8b44/
URL:https://ausschreibungsradar.com/ausschreibung/a66e6d7b-f0e2-482a-9cc9-b90801fe8b44/
END:VEVENT
BEGIN:VEVENT
UID:388a96916c6ed5b5@ausschreibungsradar.com
DTSTAMP:20260424T054833Z
DTSTART;VALUE=DATE:20250505
DTEND;VALUE=DATE:20250505
SUMMARY:Vergabeergebnis — PSA Profischule Campus - Fassadenarbeiten - Holzfassade
DESCRIPTION:Phase: Vergabeergebnis | Beschreibung: Auftrag wurde zugeschlagen | Link: https://ausschreibungsradar.com/ausschreibung/84faf0f5-50f2-49f2-ae16-69f08cf4a7d1/
URL:https://ausschreibungsradar.com/ausschreibung/84faf0f5-50f2-49f2-ae16-69f08cf4a7d1/
END:VEVENT
END:VCALENDAR
