BEGIN:VCALENDAR
VERSION:2.0
PRODID:-//AusschreibungsRadar//Timeline//DE
CALSCALE:GREGORIAN
METHOD:PUBLISH
X-WR-CALNAME:Projekt Feuerwehrgerätehaus Atsch - Objektplanungsleistungen
X-WR-TIMEZONE:Europe/Berlin
BEGIN:VEVENT
UID:7088270c9052a479@ausschreibungsradar.com
DTSTAMP:20260425T212112Z
DTSTART;VALUE=DATE:20241008
DTEND;VALUE=DATE:20241008
SUMMARY:Angebotsfrist — Feuerwehrgerätehaus Atsch - Objektplanungsleistungen
DESCRIPTION:Phase: Ausschreibung | Beschreibung: Angebote werden eingeholt | Link: https://ausschreibungsradar.com/ausschreibung/856f41d7-3417-4a8b-a947-2a6411622ca9/
URL:https://ausschreibungsradar.com/ausschreibung/856f41d7-3417-4a8b-a947-2a6411622ca9/
END:VEVENT
BEGIN:VEVENT
UID:70f5e8a69219c331@ausschreibungsradar.com
DTSTAMP:20260425T212112Z
DTSTART;VALUE=DATE:20251028
DTEND;VALUE=DATE:20251028
SUMMARY:Zuschlag — Feuerwehrgerätehaus Atsch - Objektplanungsleistungen
DESCRIPTION:Phase: Zuschlag | Beschreibung: Vergabeergebnis — Auftrag wurde erteilt oder Verfahren beendet. | Link: https://ausschreibungsradar.com/ausschreibung/957bd83d-4ca5-4723-bd3c-d20ec8f32daa/
URL:https://ausschreibungsradar.com/ausschreibung/957bd83d-4ca5-4723-bd3c-d20ec8f32daa/
END:VEVENT
BEGIN:VEVENT
UID:cca7e0c2534861bd@ausschreibungsradar.com
DTSTAMP:20260425T212112Z
DTSTART;VALUE=DATE:20251028
DTEND;VALUE=DATE:20251028
SUMMARY:Zuschlag — Feuerwehrgerätehaus Atsch - Objektplanungsleistungen
DESCRIPTION:Phase: Zuschlag | Beschreibung: Vergabeergebnis — Auftrag wurde erteilt oder Verfahren beendet. | Link: https://ausschreibungsradar.com/ausschreibung/1a4fd2df-648b-47e4-b5eb-23b8b500baf3/
URL:https://ausschreibungsradar.com/ausschreibung/1a4fd2df-648b-47e4-b5eb-23b8b500baf3/
END:VEVENT
BEGIN:VEVENT
UID:8aeb6af56c0bcf30@ausschreibungsradar.com
DTSTAMP:20260425T212112Z
DTSTART;VALUE=DATE:20251029
DTEND;VALUE=DATE:20251029
SUMMARY:Vergabeergebnis — Feuerwehrgerätehaus Atsch - Objektplanungsleistungen
DESCRIPTION:Phase: Vergabeergebnis | Beschreibung: Auftrag wurde zugeschlagen | Link: https://ausschreibungsradar.com/ausschreibung/0a98168e-d1dc-4df7-a3f0-112a67f2b3aa/
URL:https://ausschreibungsradar.com/ausschreibung/0a98168e-d1dc-4df7-a3f0-112a67f2b3aa/
END:VEVENT
BEGIN:VEVENT
UID:b90502f33074169b@ausschreibungsradar.com
DTSTAMP:20260425T212112Z
DTSTART;VALUE=DATE:20251029
DTEND;VALUE=DATE:20251029
SUMMARY:Zuschlag — Feuerwehrgerätehaus Atsch - Objektplanungsleistungen
DESCRIPTION:Phase: Zuschlag | Beschreibung: Vergabeergebnis — Auftrag wurde erteilt oder Verfahren beendet. | Link: https://ausschreibungsradar.com/ausschreibung/58ee2d75-9f8f-4033-9234-03565bf1073d/
URL:https://ausschreibungsradar.com/ausschreibung/58ee2d75-9f8f-4033-9234-03565bf1073d/
END:VEVENT
BEGIN:VEVENT
UID:48974d474decce19@ausschreibungsradar.com
DTSTAMP:20260425T212112Z
DTSTART;VALUE=DATE:20251029
DTEND;VALUE=DATE:20251029
SUMMARY:Zuschlag — Feuerwehrgerätehaus Atsch - Objektplanungsleistungen
DESCRIPTION:Phase: Zuschlag | Beschreibung: Vergabeergebnis — Auftrag wurde erteilt oder Verfahren beendet. | Link: https://ausschreibungsradar.com/ausschreibung/4bd6c5ed-e714-43aa-8392-de621b96596c/
URL:https://ausschreibungsradar.com/ausschreibung/4bd6c5ed-e714-43aa-8392-de621b96596c/
END:VEVENT
END:VCALENDAR
