BEGIN:VCALENDAR
VERSION:2.0
PRODID:-//AusschreibungsRadar//Timeline//DE
CALSCALE:GREGORIAN
METHOD:PUBLISH
X-WR-CALNAME:Projekt Heizungsanlagen DIN 18380 und Kälteanlagen DIN 18379
X-WR-TIMEZONE:Europe/Berlin
BEGIN:VEVENT
UID:cfe2bb327530c996@ausschreibungsradar.com
DTSTAMP:20260424T054811Z
DTSTART;VALUE=DATE:20241220
DTEND;VALUE=DATE:20241220
SUMMARY:Angebotsfrist — Heizungsanlagen DIN 18380 und Kälteanlagen DIN 18379
DESCRIPTION:Phase: Ausschreibung | Beschreibung: Angebote werden eingeholt | Link: https://ausschreibungsradar.com/ausschreibung/8648dfc8-fea4-43ac-9182-0f96be91f03b/
URL:https://ausschreibungsradar.com/ausschreibung/8648dfc8-fea4-43ac-9182-0f96be91f03b/
END:VEVENT
END:VCALENDAR
