BEGIN:VCALENDAR
VERSION:2.0
PRODID:-//AusschreibungsRadar//Timeline//DE
CALSCALE:GREGORIAN
METHOD:PUBLISH
X-WR-CALNAME:Projekt 2026-49 Zoo: Kunstfelsenbau im Zuge des Neubaus der Robbenan
X-WR-TIMEZONE:Europe/Berlin
BEGIN:VEVENT
UID:df565ea21c8a7fcb@ausschreibungsradar.com
DTSTAMP:20260424T133207Z
DTSTART;VALUE=DATE:20260521
DTEND;VALUE=DATE:20260521
SUMMARY:Angebotsfrist — 2026-49 Zoo: Kunstfelsenbau im Zuge des Neubaus der Robbenan
DESCRIPTION:Phase: Ausschreibung | Beschreibung: Angebote werden eingeholt | Link: https://ausschreibungsradar.com/ausschreibung/8687c312-05f5-480d-ba4e-67d135ce8a35/
URL:https://ausschreibungsradar.com/ausschreibung/8687c312-05f5-480d-ba4e-67d135ce8a35/
END:VEVENT
BEGIN:VEVENT
UID:992ce656a96cc3bd@ausschreibungsradar.com
DTSTAMP:20260424T133207Z
DTSTART;VALUE=DATE:20260421
DTEND;VALUE=DATE:20260421
SUMMARY:Ausschreibung — 2026-49 Zoo: Kunstfelsenbau im Zuge des Neubaus der Robbenan
DESCRIPTION:Phase: Ausschreibung | Beschreibung: Offizielle Ausschreibung mit Bieterfrist. | Link: https://ausschreibungsradar.com/ausschreibung/ted-271364-2026/
URL:https://ausschreibungsradar.com/ausschreibung/ted-271364-2026/
END:VEVENT
END:VCALENDAR
