BEGIN:VCALENDAR
VERSION:2.0
PRODID:-//AusschreibungsRadar//Timeline//DE
CALSCALE:GREGORIAN
METHOD:PUBLISH
X-WR-CALNAME:Projekt Integrated Marketing and Communications Services
X-WR-TIMEZONE:Europe/Berlin
BEGIN:VEVENT
UID:4c5e9e739ea7b2dd@ausschreibungsradar.com
DTSTAMP:20260425T204753Z
DTSTART;VALUE=DATE:20240425
DTEND;VALUE=DATE:20240425
SUMMARY:Angebotsfrist — Integrated Marketing and Communications Services
DESCRIPTION:Phase: Ausschreibung | Beschreibung: Angebote werden eingeholt | Link: https://ausschreibungsradar.com/ausschreibung/87346eaf-65aa-4f1f-bd5f-c8f19b12fde7/
URL:https://ausschreibungsradar.com/ausschreibung/87346eaf-65aa-4f1f-bd5f-c8f19b12fde7/
END:VEVENT
BEGIN:VEVENT
UID:650c466d987d9d53@ausschreibungsradar.com
DTSTAMP:20260425T204753Z
DTSTART;VALUE=DATE:20240219
DTEND;VALUE=DATE:20240219
SUMMARY:Ausschreibung — Integrated Marketing and Communications Services
DESCRIPTION:Phase: Ausschreibung | Beschreibung: Offizielle Ausschreibung mit Bieterfrist. | Link: https://ausschreibungsradar.com/ausschreibung/94086d0c-d708-47cc-9ff7-339251139289/
URL:https://ausschreibungsradar.com/ausschreibung/94086d0c-d708-47cc-9ff7-339251139289/
END:VEVENT
BEGIN:VEVENT
UID:e66ce9abd008b212@ausschreibungsradar.com
DTSTAMP:20260425T204753Z
DTSTART;VALUE=DATE:20240219
DTEND;VALUE=DATE:20240219
SUMMARY:Ausschreibung — Integrated Marketing and Communications Services
DESCRIPTION:Phase: Ausschreibung | Beschreibung: Offizielle Ausschreibung mit Bieterfrist. | Link: https://ausschreibungsradar.com/ausschreibung/3ad4ef44-de7b-4ad4-a056-da11eeb5cbb7/
URL:https://ausschreibungsradar.com/ausschreibung/3ad4ef44-de7b-4ad4-a056-da11eeb5cbb7/
END:VEVENT
BEGIN:VEVENT
UID:9748ef73bc7a4d8b@ausschreibungsradar.com
DTSTAMP:20260425T204753Z
DTSTART;VALUE=DATE:20240219
DTEND;VALUE=DATE:20240219
SUMMARY:Ausschreibung — Integrated Marketing and Communications Services
DESCRIPTION:Phase: Ausschreibung | Beschreibung: Offizielle Ausschreibung mit Bieterfrist. | Link: https://ausschreibungsradar.com/ausschreibung/ea395446-b8df-4cb5-85d3-b1a45146e645/
URL:https://ausschreibungsradar.com/ausschreibung/ea395446-b8df-4cb5-85d3-b1a45146e645/
END:VEVENT
BEGIN:VEVENT
UID:d49c289783886a1e@ausschreibungsradar.com
DTSTAMP:20260425T204753Z
DTSTART;VALUE=DATE:20240219
DTEND;VALUE=DATE:20240219
SUMMARY:Ausschreibung — Integrated Marketing and Communications Services
DESCRIPTION:Phase: Ausschreibung | Beschreibung: Offizielle Ausschreibung mit Bieterfrist. | Link: https://ausschreibungsradar.com/ausschreibung/edb71e11-0494-4d7f-8fd0-2ce2fc1c8bbd/
URL:https://ausschreibungsradar.com/ausschreibung/edb71e11-0494-4d7f-8fd0-2ce2fc1c8bbd/
END:VEVENT
BEGIN:VEVENT
UID:4a475fa9cd5ae9d5@ausschreibungsradar.com
DTSTAMP:20260425T204753Z
DTSTART;VALUE=DATE:20240713
DTEND;VALUE=DATE:20240713
SUMMARY:Vergabeergebnis — Integrated Marketing and Communications Services
DESCRIPTION:Phase: Vergabeergebnis | Beschreibung: Keine Angebote eingegangen | Link: https://ausschreibungsradar.com/ausschreibung/a79512df-ccfe-4c71-ab38-450e44907db2/
URL:https://ausschreibungsradar.com/ausschreibung/a79512df-ccfe-4c71-ab38-450e44907db2/
END:VEVENT
END:VCALENDAR
