BEGIN:VCALENDAR
VERSION:2.0
PRODID:-//AusschreibungsRadar//Timeline//DE
CALSCALE:GREGORIAN
METHOD:PUBLISH
X-WR-CALNAME:Projekt Vertragsschließung über die Lieferung von drei Kastenwagen m
X-WR-TIMEZONE:Europe/Berlin
BEGIN:VEVENT
UID:a015df91ff633419@ausschreibungsradar.com
DTSTAMP:20260425T023845Z
DTSTART;VALUE=DATE:20250723
DTEND;VALUE=DATE:20250723
SUMMARY:Ausschreibung — Vertragsschließung über die Lieferung von drei Kastenwagen m
DESCRIPTION:Phase: Ausschreibung | Beschreibung: Angebote werden eingeholt | Link: https://ausschreibungsradar.com/ausschreibung/889ae085-2e6e-485c-b427-dcf591adccb4/
URL:https://ausschreibungsradar.com/ausschreibung/889ae085-2e6e-485c-b427-dcf591adccb4/
END:VEVENT
BEGIN:VEVENT
UID:31614244413a18ec@ausschreibungsradar.com
DTSTAMP:20260425T023845Z
DTSTART;VALUE=DATE:20251201
DTEND;VALUE=DATE:20251201
SUMMARY:Vergabeergebnis — Vertragsschließung über die Lieferung von drei Kastenwagen m
DESCRIPTION:Phase: Vergabeergebnis | Beschreibung: Auftrag wurde zugeschlagen | Link: https://ausschreibungsradar.com/ausschreibung/25b6630a-6c9b-4389-b65c-6b1511bd9ca2/
URL:https://ausschreibungsradar.com/ausschreibung/25b6630a-6c9b-4389-b65c-6b1511bd9ca2/
END:VEVENT
END:VCALENDAR
