BEGIN:VCALENDAR
VERSION:2.0
PRODID:-//AusschreibungsRadar//Timeline//DE
CALSCALE:GREGORIAN
METHOD:PUBLISH
X-WR-CALNAME:Projekt Berlin TXL - UTR - Terminal B - Phase 2 - Los 21 - Objektdem
X-WR-TIMEZONE:Europe/Berlin
BEGIN:VEVENT
UID:dc9fac92514f53ac@ausschreibungsradar.com
DTSTAMP:20260426T011636Z
DTSTART;VALUE=DATE:20260318
DTEND;VALUE=DATE:20260318
SUMMARY:Zuschlag — Berlin TXL - UTR - Terminal B - Phase 2 - Los 21 - Objektdem
DESCRIPTION:Phase: Zuschlag | Beschreibung: Vergabeergebnis — Auftrag wurde erteilt oder Verfahren beendet. | Link: https://ausschreibungsradar.com/ausschreibung/88b2ec0d-4141-409c-a8d0-a3e926232cb5/ | Geschätzte
URL:https://ausschreibungsradar.com/ausschreibung/88b2ec0d-4141-409c-a8d0-a3e926232cb5/
END:VEVENT
BEGIN:VEVENT
UID:d1e4cd093a09f384@ausschreibungsradar.com
DTSTAMP:20260426T011636Z
DTSTART;VALUE=DATE:20260318
DTEND;VALUE=DATE:20260318
SUMMARY:Zuschlag — Berlin TXL - UTR - Terminal B - Phase 2 - Los 21 - Objektdem
DESCRIPTION:Phase: Zuschlag | Beschreibung: Vergabeergebnis — Auftrag wurde erteilt oder Verfahren beendet. | Link: https://ausschreibungsradar.com/ausschreibung/859d6209-d824-48e5-8c67-ab777520fab0/
URL:https://ausschreibungsradar.com/ausschreibung/859d6209-d824-48e5-8c67-ab777520fab0/
END:VEVENT
END:VCALENDAR
