BEGIN:VCALENDAR
VERSION:2.0
PRODID:-//AusschreibungsRadar//Timeline//DE
CALSCALE:GREGORIAN
METHOD:PUBLISH
X-WR-CALNAME:Projekt ctt Lebach – Ersatzneubau des Caritas Krankenhaus_MSR_VE 415
X-WR-TIMEZONE:Europe/Berlin
BEGIN:VEVENT
UID:f0dd598896a78243@ausschreibungsradar.com
DTSTAMP:20260423T233128Z
DTSTART;VALUE=DATE:20250902
DTEND;VALUE=DATE:20250902
SUMMARY:Ausschreibung — ctt Lebach – Ersatzneubau des Caritas Krankenhaus_MSR_VE 415
DESCRIPTION:Phase: Ausschreibung | Beschreibung: Offizielle Ausschreibung mit Bieterfrist. | Link: https://ausschreibungsradar.com/ausschreibung/4a140491-a582-4e23-8196-a2993a761a5f/
URL:https://ausschreibungsradar.com/ausschreibung/4a140491-a582-4e23-8196-a2993a761a5f/
END:VEVENT
BEGIN:VEVENT
UID:669669e72ee7c3a8@ausschreibungsradar.com
DTSTAMP:20260423T233128Z
DTSTART;VALUE=DATE:20251022
DTEND;VALUE=DATE:20251022
SUMMARY:Angebotsfrist — ctt Lebach – Ersatzneubau des Caritas Krankenhaus_MSR_VE 415
DESCRIPTION:Phase: Ausschreibung | Beschreibung: Angebote werden eingeholt | Link: https://ausschreibungsradar.com/ausschreibung/88b9ddc0-cf95-4fa9-aaeb-65eecbf1457f/
URL:https://ausschreibungsradar.com/ausschreibung/88b9ddc0-cf95-4fa9-aaeb-65eecbf1457f/
END:VEVENT
BEGIN:VEVENT
UID:1708c6c0107c38d5@ausschreibungsradar.com
DTSTAMP:20260423T233128Z
DTSTART;VALUE=DATE:20250918
DTEND;VALUE=DATE:20250918
SUMMARY:Ausschreibung — ctt Lebach – Ersatzneubau des Caritas Krankenhaus_MSR_VE 415
DESCRIPTION:Phase: Ausschreibung | Beschreibung: Offizielle Ausschreibung mit Bieterfrist. | Link: https://ausschreibungsradar.com/ausschreibung/a260efd3-b6a4-4a34-b8ba-41509c33871b/
URL:https://ausschreibungsradar.com/ausschreibung/a260efd3-b6a4-4a34-b8ba-41509c33871b/
END:VEVENT
BEGIN:VEVENT
UID:3df9ac1e23c8a462@ausschreibungsradar.com
DTSTAMP:20260423T233128Z
DTSTART;VALUE=DATE:20250918
DTEND;VALUE=DATE:20250918
SUMMARY:Ausschreibung — ctt Lebach – Ersatzneubau des Caritas Krankenhaus_MSR_VE 415
DESCRIPTION:Phase: Ausschreibung | Beschreibung: Offizielle Ausschreibung mit Bieterfrist. | Link: https://ausschreibungsradar.com/ausschreibung/313f07ac-729f-464f-89c5-7b147a7fed87/
URL:https://ausschreibungsradar.com/ausschreibung/313f07ac-729f-464f-89c5-7b147a7fed87/
END:VEVENT
BEGIN:VEVENT
UID:9ab1e9cbe17300db@ausschreibungsradar.com
DTSTAMP:20260423T233128Z
DTSTART;VALUE=DATE:20251017
DTEND;VALUE=DATE:20251017
SUMMARY:Ausschreibung — ctt Lebach – Ersatzneubau des Caritas Krankenhaus_MSR_VE 415
DESCRIPTION:Phase: Ausschreibung | Beschreibung: Offizielle Ausschreibung mit Bieterfrist. | Link: https://ausschreibungsradar.com/ausschreibung/0d1e3512-5669-496f-ade2-49aec2964e64/
URL:https://ausschreibungsradar.com/ausschreibung/0d1e3512-5669-496f-ade2-49aec2964e64/
END:VEVENT
BEGIN:VEVENT
UID:e7e49cd1698bd0f6@ausschreibungsradar.com
DTSTAMP:20260423T233128Z
DTSTART;VALUE=DATE:20260129
DTEND;VALUE=DATE:20260129
SUMMARY:Vergabeergebnis — ctt Lebach – Ersatzneubau des Caritas Krankenhaus_MSR_VE 415
DESCRIPTION:Phase: Vergabeergebnis | Beschreibung: Auftrag wurde zugeschlagen | Link: https://ausschreibungsradar.com/ausschreibung/3e2bb6b2-9e97-4d1a-bbc4-101cff10da7d/ | Auftragnehmer: Sauter-Cumulus GmbH\n
URL:https://ausschreibungsradar.com/ausschreibung/3e2bb6b2-9e97-4d1a-bbc4-101cff10da7d/
END:VEVENT
END:VCALENDAR
