BEGIN:VCALENDAR
VERSION:2.0
PRODID:-//AusschreibungsRadar//Timeline//DE
CALSCALE:GREGORIAN
METHOD:PUBLISH
X-WR-CALNAME:Projekt Erneuerung der Eisenbahnüberführung BAB A40 Überbau 5 sowie 
X-WR-TIMEZONE:Europe/Berlin
BEGIN:VEVENT
UID:5294b7ef2810e477@ausschreibungsradar.com
DTSTAMP:20260424T133202Z
DTSTART;VALUE=DATE:20260408
DTEND;VALUE=DATE:20260408
SUMMARY:Ausschreibung — Erneuerung der Eisenbahnüberführung BAB A40 Überbau 5 sowie 
DESCRIPTION:Phase: Ausschreibung | Beschreibung: Angebote werden eingeholt | Link: https://ausschreibungsradar.com/ausschreibung/88d2090c-6fb1-41aa-880e-4bfbe2d4fd45/
URL:https://ausschreibungsradar.com/ausschreibung/88d2090c-6fb1-41aa-880e-4bfbe2d4fd45/
END:VEVENT
BEGIN:VEVENT
UID:3a742a217a435c79@ausschreibungsradar.com
DTSTAMP:20260424T133202Z
DTSTART;VALUE=DATE:20260408
DTEND;VALUE=DATE:20260408
SUMMARY:Ausschreibung — Erneuerung der Eisenbahnüberführung BAB A40 Überbau 5 sowie 
DESCRIPTION:Phase: Ausschreibung | Beschreibung: Offizielle Ausschreibung mit Bieterfrist. | Link: https://ausschreibungsradar.com/ausschreibung/bf30cf26-70f4-4e5d-9418-6e42d4fce40c/
URL:https://ausschreibungsradar.com/ausschreibung/bf30cf26-70f4-4e5d-9418-6e42d4fce40c/
END:VEVENT
BEGIN:VEVENT
UID:0210f885c89e9d69@ausschreibungsradar.com
DTSTAMP:20260424T133202Z
DTSTART;VALUE=DATE:20260408
DTEND;VALUE=DATE:20260408
SUMMARY:Ausschreibung — Erneuerung der Eisenbahnüberführung BAB A40 Überbau 5 sowie 
DESCRIPTION:Phase: Ausschreibung | Beschreibung: Offizielle Ausschreibung mit Bieterfrist. | Link: https://ausschreibungsradar.com/ausschreibung/1d43b675-c0ba-48aa-a697-4b44543fa5d9/
URL:https://ausschreibungsradar.com/ausschreibung/1d43b675-c0ba-48aa-a697-4b44543fa5d9/
END:VEVENT
END:VCALENDAR
