BEGIN:VCALENDAR
VERSION:2.0
PRODID:-//AusschreibungsRadar//Timeline//DE
CALSCALE:GREGORIAN
METHOD:PUBLISH
X-WR-CALNAME:Projekt Volkswohnung GmbH, VOB/A EU Verhandlungsverfahren mit TNW, T
X-WR-TIMEZONE:Europe/Berlin
BEGIN:VEVENT
UID:bac0f399d3b27c1f@ausschreibungsradar.com
DTSTAMP:20260426T024205Z
DTSTART;VALUE=DATE:20260323
DTEND;VALUE=DATE:20260323
SUMMARY:Ausschreibung — Volkswohnung GmbH\, VOB/A EU Verhandlungsverfahren mit TNW\, T
DESCRIPTION:Phase: Ausschreibung | Beschreibung: Angebote werden eingeholt | Link: https://ausschreibungsradar.com/ausschreibung/89e2705f-92a9-426b-8465-14fe7edfcc77/
URL:https://ausschreibungsradar.com/ausschreibung/89e2705f-92a9-426b-8465-14fe7edfcc77/
END:VEVENT
BEGIN:VEVENT
UID:a5dd82b3c9f4a6b8@ausschreibungsradar.com
DTSTAMP:20260426T024205Z
DTSTART;VALUE=DATE:20260323
DTEND;VALUE=DATE:20260323
SUMMARY:Ausschreibung — Volkswohnung GmbH\, VOB/A EU Verhandlungsverfahren mit TNW\, T
DESCRIPTION:Phase: Ausschreibung | Beschreibung: Offizielle Ausschreibung mit Bieterfrist. | Link: https://ausschreibungsradar.com/ausschreibung/9443f48b-660f-4c45-8f77-d1d704f66294/
URL:https://ausschreibungsradar.com/ausschreibung/9443f48b-660f-4c45-8f77-d1d704f66294/
END:VEVENT
BEGIN:VEVENT
UID:7f23fd1cd546fcb8@ausschreibungsradar.com
DTSTAMP:20260426T024205Z
DTSTART;VALUE=DATE:20260323
DTEND;VALUE=DATE:20260323
SUMMARY:Ausschreibung — Volkswohnung GmbH\, VOB/A EU Verhandlungsverfahren mit TNW\, T
DESCRIPTION:Phase: Ausschreibung | Beschreibung: Offizielle Ausschreibung mit Bieterfrist. | Link: https://ausschreibungsradar.com/ausschreibung/1eacd933-7e27-4444-82b3-55a7a95b5e29/
URL:https://ausschreibungsradar.com/ausschreibung/1eacd933-7e27-4444-82b3-55a7a95b5e29/
END:VEVENT
BEGIN:VEVENT
UID:6957a786c6940d09@ausschreibungsradar.com
DTSTAMP:20260426T024205Z
DTSTART;VALUE=DATE:20260323
DTEND;VALUE=DATE:20260323
SUMMARY:Ausschreibung — Volkswohnung GmbH\, VOB/A EU Verhandlungsverfahren mit TNW\, T
DESCRIPTION:Phase: Ausschreibung | Beschreibung: Offizielle Ausschreibung mit Bieterfrist. | Link: https://ausschreibungsradar.com/ausschreibung/bf1acec5-3d97-4c67-b17e-87f3dcca88d4/
URL:https://ausschreibungsradar.com/ausschreibung/bf1acec5-3d97-4c67-b17e-87f3dcca88d4/
END:VEVENT
BEGIN:VEVENT
UID:7cb97a4be2b48735@ausschreibungsradar.com
DTSTAMP:20260426T024205Z
DTSTART;VALUE=DATE:20260323
DTEND;VALUE=DATE:20260323
SUMMARY:Ausschreibung — Volkswohnung GmbH\, VOB/A EU Verhandlungsverfahren mit TNW\, T
DESCRIPTION:Phase: Ausschreibung | Beschreibung: Offizielle Ausschreibung mit Bieterfrist. | Link: https://ausschreibungsradar.com/ausschreibung/089cc804-20b8-4d24-9d7b-ff1858957525/
URL:https://ausschreibungsradar.com/ausschreibung/089cc804-20b8-4d24-9d7b-ff1858957525/
END:VEVENT
BEGIN:VEVENT
UID:dae47c4ec4cdf0e5@ausschreibungsradar.com
DTSTAMP:20260426T024205Z
DTSTART;VALUE=DATE:20260422
DTEND;VALUE=DATE:20260422
SUMMARY:Ausschreibung — Volkswohnung GmbH\, VOB/A EU Verhandlungsverfahren mit TNW\, T
DESCRIPTION:Phase: Ausschreibung | Beschreibung: Offizielle Ausschreibung mit Bieterfrist. | Link: https://ausschreibungsradar.com/ausschreibung/ted-276389-2026/
URL:https://ausschreibungsradar.com/ausschreibung/ted-276389-2026/
END:VEVENT
END:VCALENDAR
