BEGIN:VCALENDAR
VERSION:2.0
PRODID:-//AusschreibungsRadar//Timeline//DE
CALSCALE:GREGORIAN
METHOD:PUBLISH
X-WR-CALNAME:Projekt Innensanierung Laborgebäude AC - Malerarbeiten
X-WR-TIMEZONE:Europe/Berlin
BEGIN:VEVENT
UID:d05643dd04b14c92@ausschreibungsradar.com
DTSTAMP:20260425T014029Z
DTSTART;VALUE=DATE:20251204
DTEND;VALUE=DATE:20251204
SUMMARY:Angebotsfrist — Innensanierung Laborgebäude AC - Malerarbeiten
DESCRIPTION:Phase: Ausschreibung | Beschreibung: Angebote werden eingeholt | Link: https://ausschreibungsradar.com/ausschreibung/89ebd6c8-660c-43e4-a861-6599db9f0a5b/
URL:https://ausschreibungsradar.com/ausschreibung/89ebd6c8-660c-43e4-a861-6599db9f0a5b/
END:VEVENT
BEGIN:VEVENT
UID:0258525de116f2f2@ausschreibungsradar.com
DTSTAMP:20260425T014029Z
DTSTART;VALUE=DATE:20251103
DTEND;VALUE=DATE:20251103
SUMMARY:Ausschreibung — Innensanierung Laborgebäude AC - Malerarbeiten
DESCRIPTION:Phase: Ausschreibung | Beschreibung: Offizielle Ausschreibung mit Bieterfrist. | Link: https://ausschreibungsradar.com/ausschreibung/895ed557-1023-47a6-9707-d073cedad782/
URL:https://ausschreibungsradar.com/ausschreibung/895ed557-1023-47a6-9707-d073cedad782/
END:VEVENT
BEGIN:VEVENT
UID:b79c8927670ce589@ausschreibungsradar.com
DTSTAMP:20260425T014029Z
DTSTART;VALUE=DATE:20251103
DTEND;VALUE=DATE:20251103
SUMMARY:Ausschreibung — Innensanierung Laborgebäude AC - Malerarbeiten
DESCRIPTION:Phase: Ausschreibung | Beschreibung: Offizielle Ausschreibung mit Bieterfrist. | Link: https://ausschreibungsradar.com/ausschreibung/4ce7e8c7-b3af-45c4-8331-6e74d665c362/
URL:https://ausschreibungsradar.com/ausschreibung/4ce7e8c7-b3af-45c4-8331-6e74d665c362/
END:VEVENT
BEGIN:VEVENT
UID:2556b855d7897d46@ausschreibungsradar.com
DTSTAMP:20260425T014029Z
DTSTART;VALUE=DATE:20251223
DTEND;VALUE=DATE:20251223
SUMMARY:Vergabeergebnis — Innensanierung Laborgebäude AC - Malerarbeiten
DESCRIPTION:Phase: Vergabeergebnis | Beschreibung: Auftrag wurde zugeschlagen | Link: https://ausschreibungsradar.com/ausschreibung/2373b538-d8c3-4558-bc60-151aafef52e4/
URL:https://ausschreibungsradar.com/ausschreibung/2373b538-d8c3-4558-bc60-151aafef52e4/
END:VEVENT
END:VCALENDAR
