BEGIN:VCALENDAR
VERSION:2.0
PRODID:-//AusschreibungsRadar//Timeline//DE
CALSCALE:GREGORIAN
METHOD:PUBLISH
X-WR-CALNAME:Projekt Projekt LiH - „Ausbildungskampagne zur Nachwuchsgewinnung un
X-WR-TIMEZONE:Europe/Berlin
BEGIN:VEVENT
UID:ad98e8bedc63d700@ausschreibungsradar.com
DTSTAMP:20260424T062543Z
DTSTART;VALUE=DATE:20230619
DTEND;VALUE=DATE:20230619
SUMMARY:Angebotsfrist — Projekt LiH - „Ausbildungskampagne zur Nachwuchsgewinnung un
DESCRIPTION:Phase: Ausschreibung | Beschreibung: Angebote werden eingeholt | Link: https://ausschreibungsradar.com/ausschreibung/8a02b94b-1cbf-4d97-ac0d-5c6ae2ecf194/ | Geschätzter Wert: 1 €
URL:https://ausschreibungsradar.com/ausschreibung/8a02b94b-1cbf-4d97-ac0d-5c6ae2ecf194/
END:VEVENT
BEGIN:VEVENT
UID:a9fc1c8f5a112b9b@ausschreibungsradar.com
DTSTAMP:20260424T062543Z
DTSTART;VALUE=DATE:20230731
DTEND;VALUE=DATE:20230731
SUMMARY:Vergabeergebnis — Projekt LiH - „Ausbildungskampagne zur Nachwuchsgewinnung un
DESCRIPTION:Phase: Vergabeergebnis | Beschreibung: Auftrag wurde zugeschlagen | Link: https://ausschreibungsradar.com/ausschreibung/fbf46475-2e9e-4d5c-8864-73dabc0d1a34/ | Auftragnehmer: LUR SL GmbH
URL:https://ausschreibungsradar.com/ausschreibung/fbf46475-2e9e-4d5c-8864-73dabc0d1a34/
END:VEVENT
END:VCALENDAR
