BEGIN:VCALENDAR
VERSION:2.0
PRODID:-//AusschreibungsRadar//Timeline//DE
CALSCALE:GREGORIAN
METHOD:PUBLISH
X-WR-CALNAME:Projekt AE - Teilneubau der Grundschule Groß Berkel - Maler- und WDV
X-WR-TIMEZONE:Europe/Berlin
BEGIN:VEVENT
UID:16e56560c04b45f0@ausschreibungsradar.com
DTSTAMP:20260424T004959Z
DTSTART;VALUE=DATE:20260113
DTEND;VALUE=DATE:20260113
SUMMARY:Angebotsfrist — AE - Teilneubau der Grundschule Groß Berkel - Maler- und WDV
DESCRIPTION:Phase: Ausschreibung | Beschreibung: Angebote werden eingeholt | Link: https://ausschreibungsradar.com/ausschreibung/aef7dc63-15b4-46a6-b4e7-cf030fca52e5/
URL:https://ausschreibungsradar.com/ausschreibung/aef7dc63-15b4-46a6-b4e7-cf030fca52e5/
END:VEVENT
BEGIN:VEVENT
UID:4ac2d8c74da5ceb7@ausschreibungsradar.com
DTSTAMP:20260424T004959Z
DTSTART;VALUE=DATE:20260116
DTEND;VALUE=DATE:20260116
SUMMARY:Ausschreibung — AE - Teilneubau der Grundschule Groß Berkel - Maler- und WDV
DESCRIPTION:Phase: Ausschreibung | Beschreibung: Offizielle Ausschreibung mit Bieterfrist. | Link: https://ausschreibungsradar.com/ausschreibung/9ec08084-1d15-42e7-b2e6-7bc965744101/
URL:https://ausschreibungsradar.com/ausschreibung/9ec08084-1d15-42e7-b2e6-7bc965744101/
END:VEVENT
BEGIN:VEVENT
UID:6b5eff04de05ef44@ausschreibungsradar.com
DTSTAMP:20260424T004959Z
DTSTART;VALUE=DATE:20260116
DTEND;VALUE=DATE:20260116
SUMMARY:Ausschreibung — AE - Teilneubau der Grundschule Groß Berkel - Maler- und WDV
DESCRIPTION:Phase: Ausschreibung | Beschreibung: Offizielle Ausschreibung mit Bieterfrist. | Link: https://ausschreibungsradar.com/ausschreibung/cf54922e-7ae9-4999-af38-aba7f7caafa2/
URL:https://ausschreibungsradar.com/ausschreibung/cf54922e-7ae9-4999-af38-aba7f7caafa2/
END:VEVENT
BEGIN:VEVENT
UID:e4862d93ae12fc3f@ausschreibungsradar.com
DTSTAMP:20260424T004959Z
DTSTART;VALUE=DATE:20260211
DTEND;VALUE=DATE:20260211
SUMMARY:Vergabeergebnis — AE - Teilneubau der Grundschule Groß Berkel - Maler- und WDV
DESCRIPTION:Phase: Vergabeergebnis | Beschreibung: Auftrag wurde zugeschlagen | Link: https://ausschreibungsradar.com/ausschreibung/8ae4e48e-8691-4b81-ba0d-3f3720a8fcf2/
URL:https://ausschreibungsradar.com/ausschreibung/8ae4e48e-8691-4b81-ba0d-3f3720a8fcf2/
END:VEVENT
BEGIN:VEVENT
UID:1c802404472301dd@ausschreibungsradar.com
DTSTAMP:20260424T004959Z
DTSTART;VALUE=DATE:20260303
DTEND;VALUE=DATE:20260303
SUMMARY:Zuschlag — AE - Teilneubau der Grundschule Groß Berkel - Maler- und WDV
DESCRIPTION:Phase: Zuschlag | Beschreibung: Vergabeergebnis — Auftrag wurde erteilt oder Verfahren beendet. | Link: https://ausschreibungsradar.com/ausschreibung/fd8d5fd7-5bf0-4218-be49-b451b4b42a10/
URL:https://ausschreibungsradar.com/ausschreibung/fd8d5fd7-5bf0-4218-be49-b451b4b42a10/
END:VEVENT
END:VCALENDAR
