BEGIN:VCALENDAR
VERSION:2.0
PRODID:-//AusschreibungsRadar//Timeline//DE
CALSCALE:GREGORIAN
METHOD:PUBLISH
X-WR-CALNAME:Projekt Beschaffung von Dienstleistungen der Beihilfesachbearbeitung
X-WR-TIMEZONE:Europe/Berlin
BEGIN:VEVENT
UID:ae11369c2de4cf40@ausschreibungsradar.com
DTSTAMP:20260424T192302Z
DTSTART;VALUE=DATE:20250728
DTEND;VALUE=DATE:20250728
SUMMARY:Ausschreibung — Beschaffung von Dienstleistungen der Beihilfesachbearbeitung
DESCRIPTION:Phase: Ausschreibung | Beschreibung: Angebote werden eingeholt | Link: https://ausschreibungsradar.com/ausschreibung/8b9a6dcc-efa6-404a-b1eb-3e647e004c74/
URL:https://ausschreibungsradar.com/ausschreibung/8b9a6dcc-efa6-404a-b1eb-3e647e004c74/
END:VEVENT
BEGIN:VEVENT
UID:b428ac8dec4fead9@ausschreibungsradar.com
DTSTAMP:20260424T192302Z
DTSTART;VALUE=DATE:20260306
DTEND;VALUE=DATE:20260306
SUMMARY:Vergabeergebnis — Beschaffung von Dienstleistungen der Beihilfesachbearbeitung
DESCRIPTION:Phase: Vergabeergebnis | Beschreibung: Auftrag wurde zugeschlagen | Link: https://ausschreibungsradar.com/ausschreibung/e44192cb-9c6e-443a-b4c9-c089a1ed9121/ | Geschätzter Wert: 65000 €
URL:https://ausschreibungsradar.com/ausschreibung/e44192cb-9c6e-443a-b4c9-c089a1ed9121/
END:VEVENT
END:VCALENDAR
