BEGIN:VCALENDAR
VERSION:2.0
PRODID:-//AusschreibungsRadar//Timeline//DE
CALSCALE:GREGORIAN
METHOD:PUBLISH
X-WR-CALNAME:Projekt Erweiterung 2. Gruppe für KiTa in 54570 Kalenborn-Scheuern -
X-WR-TIMEZONE:Europe/Berlin
BEGIN:VEVENT
UID:3e7151583fe75152@ausschreibungsradar.com
DTSTAMP:20260424T133201Z
DTSTART;VALUE=DATE:20250401
DTEND;VALUE=DATE:20250401
SUMMARY:Angebotsfrist — Erweiterung 2. Gruppe für KiTa in 54570 Kalenborn-Scheuern -
DESCRIPTION:Phase: Ausschreibung | Beschreibung: Angebote werden eingeholt | Link: https://ausschreibungsradar.com/ausschreibung/8ba5d58c-587a-4e71-8cd0-cc5980019dfa/
URL:https://ausschreibungsradar.com/ausschreibung/8ba5d58c-587a-4e71-8cd0-cc5980019dfa/
END:VEVENT
BEGIN:VEVENT
UID:ccc49d8be729aeff@ausschreibungsradar.com
DTSTAMP:20260424T133201Z
DTSTART;VALUE=DATE:20250226
DTEND;VALUE=DATE:20250226
SUMMARY:Ausschreibung — Erweiterung 2. Gruppe für KiTa in 54570 Kalenborn-Scheuern -
DESCRIPTION:Phase: Ausschreibung | Beschreibung: Offizielle Ausschreibung mit Bieterfrist. | Link: https://ausschreibungsradar.com/ausschreibung/c44be3ca-4dac-4773-8a62-3c66bf532636/
URL:https://ausschreibungsradar.com/ausschreibung/c44be3ca-4dac-4773-8a62-3c66bf532636/
END:VEVENT
BEGIN:VEVENT
UID:fde1b985ab5b054f@ausschreibungsradar.com
DTSTAMP:20260424T133201Z
DTSTART;VALUE=DATE:20250226
DTEND;VALUE=DATE:20250226
SUMMARY:Ausschreibung — Erweiterung 2. Gruppe für KiTa in 54570 Kalenborn-Scheuern -
DESCRIPTION:Phase: Ausschreibung | Beschreibung: Offizielle Ausschreibung mit Bieterfrist. | Link: https://ausschreibungsradar.com/ausschreibung/2268f5c7-f54f-46dd-a407-5dfed6bac1e8/
URL:https://ausschreibungsradar.com/ausschreibung/2268f5c7-f54f-46dd-a407-5dfed6bac1e8/
END:VEVENT
END:VCALENDAR
