BEGIN:VCALENDAR
VERSION:2.0
PRODID:-//AusschreibungsRadar//Timeline//DE
CALSCALE:GREGORIAN
METHOD:PUBLISH
X-WR-CALNAME:Projekt ESD Stühle und Hocker
X-WR-TIMEZONE:Europe/Berlin
BEGIN:VEVENT
UID:fe0270bab7f8cee3@ausschreibungsradar.com
DTSTAMP:20260425T002336Z
DTSTART;VALUE=DATE:20260407
DTEND;VALUE=DATE:20260407
SUMMARY:Angebotsfrist — ESD Stühle und Hocker
DESCRIPTION:Phase: Ausschreibung | Beschreibung: Angebote werden eingeholt | Link: https://ausschreibungsradar.com/ausschreibung/8b48951c-1186-49b7-b8f6-b12e1a0c3abb/
URL:https://ausschreibungsradar.com/ausschreibung/8b48951c-1186-49b7-b8f6-b12e1a0c3abb/
END:VEVENT
BEGIN:VEVENT
UID:84a940bb458f7153@ausschreibungsradar.com
DTSTAMP:20260425T002336Z
DTSTART;VALUE=DATE:20260420
DTEND;VALUE=DATE:20260420
SUMMARY:Vergabeergebnis — ESD Stühle und Hocker
DESCRIPTION:Phase: Vergabeergebnis | Beschreibung: Auftrag wurde zugeschlagen | Link: https://ausschreibungsradar.com/ausschreibung/8cfa0133-cad1-4f2b-b49a-daf6ad4b4d5f/ | Geschätzter Wert: 1 €
URL:https://ausschreibungsradar.com/ausschreibung/8cfa0133-cad1-4f2b-b49a-daf6ad4b4d5f/
END:VEVENT
END:VCALENDAR
