BEGIN:VCALENDAR
VERSION:2.0
PRODID:-//AusschreibungsRadar//Timeline//DE
CALSCALE:GREGORIAN
METHOD:PUBLISH
X-WR-CALNAME:Projekt Lieferung eines Mikro-CT Scanners
X-WR-TIMEZONE:Europe/Berlin
BEGIN:VEVENT
UID:47f3f89e689cd64b@ausschreibungsradar.com
DTSTAMP:20260425T144019Z
DTSTART;VALUE=DATE:20240415
DTEND;VALUE=DATE:20240415
SUMMARY:Ausschreibung — Lieferung eines Mikro-CT Scanners
DESCRIPTION:Phase: Ausschreibung | Beschreibung: Angebote werden eingeholt | Link: https://ausschreibungsradar.com/ausschreibung/8d29679f-e580-463c-901f-cb30b097c7f9/
URL:https://ausschreibungsradar.com/ausschreibung/8d29679f-e580-463c-901f-cb30b097c7f9/
END:VEVENT
BEGIN:VEVENT
UID:5b9f6b230e5998f9@ausschreibungsradar.com
DTSTAMP:20260425T144019Z
DTSTART;VALUE=DATE:20240415
DTEND;VALUE=DATE:20240415
SUMMARY:Ausschreibung — Lieferung eines Mikro-CT Scanners
DESCRIPTION:Phase: Ausschreibung | Beschreibung: Offizielle Ausschreibung mit Bieterfrist. | Link: https://ausschreibungsradar.com/ausschreibung/e5dc4362-c0ff-44bd-bc84-e04e691a87b7/
URL:https://ausschreibungsradar.com/ausschreibung/e5dc4362-c0ff-44bd-bc84-e04e691a87b7/
END:VEVENT
BEGIN:VEVENT
UID:dbe9a2f97c5ea75a@ausschreibungsradar.com
DTSTAMP:20260425T144019Z
DTSTART;VALUE=DATE:20240702
DTEND;VALUE=DATE:20240702
SUMMARY:Vergabeergebnis — Lieferung eines Mikro-CT Scanners
DESCRIPTION:Phase: Vergabeergebnis | Beschreibung: Auftrag wurde zugeschlagen | Link: https://ausschreibungsradar.com/ausschreibung/e0a9d33d-41c7-4e43-9392-aab6c742c61d/
URL:https://ausschreibungsradar.com/ausschreibung/e0a9d33d-41c7-4e43-9392-aab6c742c61d/
END:VEVENT
END:VCALENDAR
