BEGIN:VCALENDAR
VERSION:2.0
PRODID:-//AusschreibungsRadar//Timeline//DE
CALSCALE:GREGORIAN
METHOD:PUBLISH
X-WR-CALNAME:Projekt 81318803-Improve conditions for access to and implementation
X-WR-TIMEZONE:Europe/Berlin
BEGIN:VEVENT
UID:77ceda7294647f08@ausschreibungsradar.com
DTSTAMP:20260424T071832Z
DTSTART;VALUE=DATE:20251006
DTEND;VALUE=DATE:20251006
SUMMARY:Angebotsfrist — 81318803-Improve conditions for access to and implementation
DESCRIPTION:Phase: Ausschreibung | Beschreibung: Angebote werden eingeholt | Link: https://ausschreibungsradar.com/ausschreibung/8d417bf4-ca8c-4265-acd7-2ac57751e606/
URL:https://ausschreibungsradar.com/ausschreibung/8d417bf4-ca8c-4265-acd7-2ac57751e606/
END:VEVENT
BEGIN:VEVENT
UID:69b3ca3d4efdda73@ausschreibungsradar.com
DTSTAMP:20260424T071832Z
DTSTART;VALUE=DATE:20250826
DTEND;VALUE=DATE:20250826
SUMMARY:Ausschreibung — 81318803-Improve conditions for access to and implementation
DESCRIPTION:Phase: Ausschreibung | Beschreibung: Offizielle Ausschreibung mit Bieterfrist. | Link: https://ausschreibungsradar.com/ausschreibung/3803e88f-b4a8-4322-8ebc-2aee8f377c9d/
URL:https://ausschreibungsradar.com/ausschreibung/3803e88f-b4a8-4322-8ebc-2aee8f377c9d/
END:VEVENT
BEGIN:VEVENT
UID:349821403de0563d@ausschreibungsradar.com
DTSTAMP:20260424T071832Z
DTSTART;VALUE=DATE:20251215
DTEND;VALUE=DATE:20251215
SUMMARY:Vergabeergebnis — 81318803-Improve conditions for access to and implementation
DESCRIPTION:Phase: Vergabeergebnis | Beschreibung: Auftrag wurde zugeschlagen | Link: https://ausschreibungsradar.com/ausschreibung/7b715eb2-7d45-48d3-8827-29f7d68420cb/
URL:https://ausschreibungsradar.com/ausschreibung/7b715eb2-7d45-48d3-8827-29f7d68420cb/
END:VEVENT
END:VCALENDAR
