BEGIN:VCALENDAR
VERSION:2.0
PRODID:-//AusschreibungsRadar//Timeline//DE
CALSCALE:GREGORIAN
METHOD:PUBLISH
X-WR-CALNAME:Projekt Generalsanierung der Grundschule Sandberg mit Sporthalle dur
X-WR-TIMEZONE:Europe/Berlin
BEGIN:VEVENT
UID:2591ee0ddec15743@ausschreibungsradar.com
DTSTAMP:20260426T004542Z
DTSTART;VALUE=DATE:20250811
DTEND;VALUE=DATE:20250811
SUMMARY:Angebotsfrist — Generalsanierung der Grundschule Sandberg mit Sporthalle dur
DESCRIPTION:Phase: Ausschreibung | Beschreibung: Angebote werden eingeholt | Link: https://ausschreibungsradar.com/ausschreibung/2fef9726-8710-4a0e-bae6-568ff14d304f/
URL:https://ausschreibungsradar.com/ausschreibung/2fef9726-8710-4a0e-bae6-568ff14d304f/
END:VEVENT
BEGIN:VEVENT
UID:7e672d429fd8e8db@ausschreibungsradar.com
DTSTAMP:20260426T004542Z
DTSTART;VALUE=DATE:20250825
DTEND;VALUE=DATE:20250825
SUMMARY:Ausschreibung — Generalsanierung der Grundschule Sandberg mit Sporthalle dur
DESCRIPTION:Phase: Ausschreibung | Beschreibung: Offizielle Ausschreibung mit Bieterfrist. | Link: https://ausschreibungsradar.com/ausschreibung/c96a6292-ba05-4b6a-acc6-4712d5af5b48/
URL:https://ausschreibungsradar.com/ausschreibung/c96a6292-ba05-4b6a-acc6-4712d5af5b48/
END:VEVENT
BEGIN:VEVENT
UID:789d9375f6a72a19@ausschreibungsradar.com
DTSTAMP:20260426T004542Z
DTSTART;VALUE=DATE:20250917
DTEND;VALUE=DATE:20250917
SUMMARY:Vergabeergebnis — Generalsanierung der Grundschule Sandberg mit Sporthalle dur
DESCRIPTION:Phase: Vergabeergebnis | Beschreibung: Auftrag wurde zugeschlagen | Link: https://ausschreibungsradar.com/ausschreibung/8e1222ed-5c4e-488c-9170-5b8c6ff78fe4/
URL:https://ausschreibungsradar.com/ausschreibung/8e1222ed-5c4e-488c-9170-5b8c6ff78fe4/
END:VEVENT
BEGIN:VEVENT
UID:c79047029e0aa966@ausschreibungsradar.com
DTSTAMP:20260426T004542Z
DTSTART;VALUE=DATE:20250917
DTEND;VALUE=DATE:20250917
SUMMARY:Zuschlag — Generalsanierung der Grundschule Sandberg mit Sporthalle dur
DESCRIPTION:Phase: Zuschlag | Beschreibung: Vergabeergebnis — Auftrag wurde erteilt oder Verfahren beendet. | Link: https://ausschreibungsradar.com/ausschreibung/c8335e3f-81ac-41a6-b268-0e8d79c25a70/
URL:https://ausschreibungsradar.com/ausschreibung/c8335e3f-81ac-41a6-b268-0e8d79c25a70/
END:VEVENT
END:VCALENDAR
