BEGIN:VCALENDAR
VERSION:2.0
PRODID:-//AusschreibungsRadar//Timeline//DE
CALSCALE:GREGORIAN
METHOD:PUBLISH
X-WR-CALNAME:Projekt Fliesenarbeiten
X-WR-TIMEZONE:Europe/Berlin
BEGIN:VEVENT
UID:c941668ccbba160f@ausschreibungsradar.com
DTSTAMP:20260425T174037Z
DTSTART;VALUE=DATE:20241211
DTEND;VALUE=DATE:20241211
SUMMARY:Angebotsfrist — Fliesenarbeiten
DESCRIPTION:Phase: Ausschreibung | Beschreibung: Angebote werden eingeholt | Link: https://ausschreibungsradar.com/ausschreibung/8f03cfc8-19cd-4f69-adde-18c5da54f6a1/
URL:https://ausschreibungsradar.com/ausschreibung/8f03cfc8-19cd-4f69-adde-18c5da54f6a1/
END:VEVENT
BEGIN:VEVENT
UID:07e54a6c52699be1@ausschreibungsradar.com
DTSTAMP:20260425T174037Z
DTSTART;VALUE=DATE:20250206
DTEND;VALUE=DATE:20250206
SUMMARY:Vergabeergebnis — Fliesenarbeiten
DESCRIPTION:Phase: Vergabeergebnis | Beschreibung: Auftrag wurde zugeschlagen | Link: https://ausschreibungsradar.com/ausschreibung/c54c8cc1-ff1e-4553-a313-ab4fda0ba614/ | Auftragnehmer: Fliesen Geiss GmbH & CoKG
URL:https://ausschreibungsradar.com/ausschreibung/c54c8cc1-ff1e-4553-a313-ab4fda0ba614/
END:VEVENT
END:VCALENDAR
