BEGIN:VCALENDAR
VERSION:2.0
PRODID:-//AusschreibungsRadar//Timeline//DE
CALSCALE:GREGORIAN
METHOD:PUBLISH
X-WR-CALNAME:Projekt Lieferung von Erdgas für die Stadt Ottweiler
X-WR-TIMEZONE:Europe/Berlin
BEGIN:VEVENT
UID:0ff531efc2f8d2aa@ausschreibungsradar.com
DTSTAMP:20260424T172447Z
DTSTART;VALUE=DATE:20250603
DTEND;VALUE=DATE:20250603
SUMMARY:Angebotsfrist — Lieferung von Erdgas für die Stadt Ottweiler
DESCRIPTION:Phase: Ausschreibung | Beschreibung: Angebote werden eingeholt | Link: https://ausschreibungsradar.com/ausschreibung/8f3b9ea9-b507-4e9d-82d7-4369a45ef40c/
URL:https://ausschreibungsradar.com/ausschreibung/8f3b9ea9-b507-4e9d-82d7-4369a45ef40c/
END:VEVENT
END:VCALENDAR
