BEGIN:VCALENDAR
VERSION:2.0
PRODID:-//AusschreibungsRadar//Timeline//DE
CALSCALE:GREGORIAN
METHOD:PUBLISH
X-WR-CALNAME:Projekt Neubau Lebenshilfeschule mit Tagesstätte Landau a.d.Isar; Kü
X-WR-TIMEZONE:Europe/Berlin
BEGIN:VEVENT
UID:05d3aa648e9c1bf2@ausschreibungsradar.com
DTSTAMP:20260425T181517Z
DTSTART;VALUE=DATE:20240808
DTEND;VALUE=DATE:20240808
SUMMARY:Angebotsfrist — Neubau Lebenshilfeschule mit Tagesstätte Landau a.d.Isar\; Kü
DESCRIPTION:Phase: Ausschreibung | Beschreibung: Angebote werden eingeholt | Link: https://ausschreibungsradar.com/ausschreibung/b6210a7e-4cd9-4a50-a31c-35d113676dbe/
URL:https://ausschreibungsradar.com/ausschreibung/b6210a7e-4cd9-4a50-a31c-35d113676dbe/
END:VEVENT
BEGIN:VEVENT
UID:283a6534af70543f@ausschreibungsradar.com
DTSTAMP:20260425T181517Z
DTSTART;VALUE=DATE:20241001
DTEND;VALUE=DATE:20241001
SUMMARY:Ausschreibung — Neubau Lebenshilfeschule mit Tagesstätte Landau a.d.Isar\; Kü
DESCRIPTION:Phase: Ausschreibung | Beschreibung: Offizielle Ausschreibung mit Bieterfrist. | Link: https://ausschreibungsradar.com/ausschreibung/d5828b61-e5c5-4ae4-b20a-affabdad60ae/
URL:https://ausschreibungsradar.com/ausschreibung/d5828b61-e5c5-4ae4-b20a-affabdad60ae/
END:VEVENT
BEGIN:VEVENT
UID:6663d3b2fe607b50@ausschreibungsradar.com
DTSTAMP:20260425T181517Z
DTSTART;VALUE=DATE:20241007
DTEND;VALUE=DATE:20241007
SUMMARY:Vergabeergebnis — Neubau Lebenshilfeschule mit Tagesstätte Landau a.d.Isar\; Kü
DESCRIPTION:Phase: Vergabeergebnis | Beschreibung: Auftrag wurde zugeschlagen | Link: https://ausschreibungsradar.com/ausschreibung/8f577cd3-2c4d-4011-b860-641e942d395a/ | Auftragnehmer: Handschuch\nHaus der Gast
URL:https://ausschreibungsradar.com/ausschreibung/8f577cd3-2c4d-4011-b860-641e942d395a/
END:VEVENT
BEGIN:VEVENT
UID:2525c0a58eab3c7c@ausschreibungsradar.com
DTSTAMP:20260425T181517Z
DTSTART;VALUE=DATE:20241030
DTEND;VALUE=DATE:20241030
SUMMARY:Zuschlag — Neubau Lebenshilfeschule mit Tagesstätte Landau a.d.Isar\; Kü
DESCRIPTION:Phase: Zuschlag | Beschreibung: Vergabeergebnis — Auftrag wurde erteilt oder Verfahren beendet. | Link: https://ausschreibungsradar.com/ausschreibung/daf454ae-c50d-421c-8fc8-1301a35e5b68/
URL:https://ausschreibungsradar.com/ausschreibung/daf454ae-c50d-421c-8fc8-1301a35e5b68/
END:VEVENT
END:VCALENDAR
