BEGIN:VCALENDAR
VERSION:2.0
PRODID:-//AusschreibungsRadar//Timeline//DE
CALSCALE:GREGORIAN
METHOD:PUBLISH
X-WR-CALNAME:Projekt Entwicklung einer Infrastruktur-Managementlösung
X-WR-TIMEZONE:Europe/Berlin
BEGIN:VEVENT
UID:c27fcb289376ba1e@ausschreibungsradar.com
DTSTAMP:20260426T013342Z
DTSTART;VALUE=DATE:20250711
DTEND;VALUE=DATE:20250711
SUMMARY:Ausschreibung — Entwicklung einer Infrastruktur-Managementlösung
DESCRIPTION:Phase: Ausschreibung | Beschreibung: Angebote werden eingeholt | Link: https://ausschreibungsradar.com/ausschreibung/90599705-d0bb-4fc7-bf09-7961d5f539d4/ | Geschätzter Wert: 630200 €
URL:https://ausschreibungsradar.com/ausschreibung/90599705-d0bb-4fc7-bf09-7961d5f539d4/
END:VEVENT
BEGIN:VEVENT
UID:a09a31d18855fd3a@ausschreibungsradar.com
DTSTAMP:20260426T013342Z
DTSTART;VALUE=DATE:20250711
DTEND;VALUE=DATE:20250711
SUMMARY:Ausschreibung — Entwicklung einer Infrastruktur-Managementlösung
DESCRIPTION:Phase: Ausschreibung | Beschreibung: Offizielle Ausschreibung mit Bieterfrist. | Link: https://ausschreibungsradar.com/ausschreibung/d041ffc1-645e-4573-9410-acb431eb718f/
URL:https://ausschreibungsradar.com/ausschreibung/d041ffc1-645e-4573-9410-acb431eb718f/
END:VEVENT
BEGIN:VEVENT
UID:00ace5f44909c482@ausschreibungsradar.com
DTSTAMP:20260426T013342Z
DTSTART;VALUE=DATE:20251016
DTEND;VALUE=DATE:20251016
SUMMARY:Vergabeergebnis — Entwicklung einer Infrastruktur-Managementlösung
DESCRIPTION:Phase: Vergabeergebnis | Beschreibung: Auftrag wurde zugeschlagen | Link: https://ausschreibungsradar.com/ausschreibung/19447806-de26-4d48-961d-ddb19f36f709/ | Geschätzter Wert: 630200 €
URL:https://ausschreibungsradar.com/ausschreibung/19447806-de26-4d48-961d-ddb19f36f709/
END:VEVENT
END:VCALENDAR
