BEGIN:VCALENDAR
VERSION:2.0
PRODID:-//AusschreibungsRadar//Timeline//DE
CALSCALE:GREGORIAN
METHOD:PUBLISH
X-WR-CALNAME:Projekt Quartiersmanagement Eschhofsiedlung Lemwerder
X-WR-TIMEZONE:Europe/Berlin
BEGIN:VEVENT
UID:c511db503f6ad458@ausschreibungsradar.com
DTSTAMP:20260425T181125Z
DTSTART;VALUE=DATE:20231113
DTEND;VALUE=DATE:20231113
SUMMARY:Ausschreibung — Quartiersmanagement Eschhofsiedlung Lemwerder
DESCRIPTION:Phase: Ausschreibung | Beschreibung: Offizielle Ausschreibung mit Bieterfrist. | Link: https://ausschreibungsradar.com/ausschreibung/21163144/
URL:https://ausschreibungsradar.com/ausschreibung/21163144/
END:VEVENT
BEGIN:VEVENT
UID:23008b78fbc44f80@ausschreibungsradar.com
DTSTAMP:20260425T181125Z
DTSTART;VALUE=DATE:20231215
DTEND;VALUE=DATE:20231215
SUMMARY:Angebotsfrist — Quartiersmanagement Eschhofsiedlung Lemwerder
DESCRIPTION:Phase: Ausschreibung | Beschreibung: Angebote werden eingeholt | Link: https://ausschreibungsradar.com/ausschreibung/90e222c5-4e02-49f1-adb0-7667c77f0578/ | Geschätzter Wert: 294840 €
URL:https://ausschreibungsradar.com/ausschreibung/90e222c5-4e02-49f1-adb0-7667c77f0578/
END:VEVENT
BEGIN:VEVENT
UID:e397330a4bac4c24@ausschreibungsradar.com
DTSTAMP:20260425T181125Z
DTSTART;VALUE=DATE:20240319
DTEND;VALUE=DATE:20240319
SUMMARY:Vergabeergebnis — Quartiersmanagement Eschhofsiedlung Lemwerder
DESCRIPTION:Phase: Vergabeergebnis | Beschreibung: Auftrag wurde zugeschlagen | Link: https://ausschreibungsradar.com/ausschreibung/b010858d-9dd2-4801-b929-cb11d60a6738/ | Geschätzter Wert: 294840 €
URL:https://ausschreibungsradar.com/ausschreibung/b010858d-9dd2-4801-b929-cb11d60a6738/
END:VEVENT
END:VCALENDAR
