BEGIN:VCALENDAR
VERSION:2.0
PRODID:-//AusschreibungsRadar//Timeline//DE
CALSCALE:GREGORIAN
METHOD:PUBLISH
X-WR-CALNAME:Projekt Neuaufstellung Gesamtflächennutzungsplan für das Gebiet der 
X-WR-TIMEZONE:Europe/Berlin
BEGIN:VEVENT
UID:84cbe8da0f823e39@ausschreibungsradar.com
DTSTAMP:20260424T074758Z
DTSTART;VALUE=DATE:20250424
DTEND;VALUE=DATE:20250424
SUMMARY:Angebotsfrist — Neuaufstellung Gesamtflächennutzungsplan für das Gebiet der 
DESCRIPTION:Phase: Ausschreibung | Beschreibung: Angebote werden eingeholt | Link: https://ausschreibungsradar.com/ausschreibung/e9bef0b8-c1b7-45f4-921f-16da2de1a574/
URL:https://ausschreibungsradar.com/ausschreibung/e9bef0b8-c1b7-45f4-921f-16da2de1a574/
END:VEVENT
BEGIN:VEVENT
UID:4892a70acc257441@ausschreibungsradar.com
DTSTAMP:20260424T074758Z
DTSTART;VALUE=DATE:20250317
DTEND;VALUE=DATE:20250317
SUMMARY:Ausschreibung — Neuaufstellung Gesamtflächennutzungsplan für das Gebiet der 
DESCRIPTION:Phase: Ausschreibung | Beschreibung: Offizielle Ausschreibung mit Bieterfrist. | Link: https://ausschreibungsradar.com/ausschreibung/3610cfa3-8502-4c32-a0e1-5f2bceb1b14c/
URL:https://ausschreibungsradar.com/ausschreibung/3610cfa3-8502-4c32-a0e1-5f2bceb1b14c/
END:VEVENT
BEGIN:VEVENT
UID:95bd1a149732e7bd@ausschreibungsradar.com
DTSTAMP:20260424T074758Z
DTSTART;VALUE=DATE:20250604
DTEND;VALUE=DATE:20250604
SUMMARY:Vergabeergebnis — Neuaufstellung Gesamtflächennutzungsplan für das Gebiet der 
DESCRIPTION:Phase: Vergabeergebnis | Beschreibung: Auftrag wurde zugeschlagen | Link: https://ausschreibungsradar.com/ausschreibung/92ff7d7c-66e6-45ec-a789-eabd888c14bc/
URL:https://ausschreibungsradar.com/ausschreibung/92ff7d7c-66e6-45ec-a789-eabd888c14bc/
END:VEVENT
END:VCALENDAR
