BEGIN:VCALENDAR
VERSION:2.0
PRODID:-//AusschreibungsRadar//Timeline//DE
CALSCALE:GREGORIAN
METHOD:PUBLISH
X-WR-CALNAME:Projekt GW 027.1 Tischlerarbeiten Innentüren DIN 18355 / Max-Planck-
X-WR-TIMEZONE:Europe/Berlin
BEGIN:VEVENT
UID:100bf89a620646a4@ausschreibungsradar.com
DTSTAMP:20260423T222914Z
DTSTART;VALUE=DATE:20240516
DTEND;VALUE=DATE:20240516
SUMMARY:Angebotsfrist — GW 027.1 Tischlerarbeiten Innentüren DIN 18355 / Max-Planck-
DESCRIPTION:Phase: Ausschreibung | Beschreibung: Angebote werden eingeholt | Link: https://ausschreibungsradar.com/ausschreibung/933e1c6c-e081-435c-b1d5-3eaee525ff07/
URL:https://ausschreibungsradar.com/ausschreibung/933e1c6c-e081-435c-b1d5-3eaee525ff07/
END:VEVENT
BEGIN:VEVENT
UID:04a0b14c88e6847e@ausschreibungsradar.com
DTSTAMP:20260423T222914Z
DTSTART;VALUE=DATE:20240709
DTEND;VALUE=DATE:20240709
SUMMARY:Vergabeergebnis — GW 027.1 Tischlerarbeiten Innentüren DIN 18355 / Max-Planck-
DESCRIPTION:Phase: Vergabeergebnis | Beschreibung: Auftrag wurde zugeschlagen | Link: https://ausschreibungsradar.com/ausschreibung/7f787cc9-c2be-4c3c-9cdb-94f4701cc91a/
URL:https://ausschreibungsradar.com/ausschreibung/7f787cc9-c2be-4c3c-9cdb-94f4701cc91a/
END:VEVENT
END:VCALENDAR
