BEGIN:VCALENDAR
VERSION:2.0
PRODID:-//AusschreibungsRadar//Timeline//DE
CALSCALE:GREGORIAN
METHOD:PUBLISH
X-WR-CALNAME:Projekt Rahmenvereinbarung über die Lieferung und Montage von Schulm
X-WR-TIMEZONE:Europe/Berlin
BEGIN:VEVENT
UID:0adbb88c4cb3792e@ausschreibungsradar.com
DTSTAMP:20260424T172249Z
DTSTART;VALUE=DATE:20260112
DTEND;VALUE=DATE:20260112
SUMMARY:Angebotsfrist — Rahmenvereinbarung über die Lieferung und Montage von Schulm
DESCRIPTION:Phase: Ausschreibung | Beschreibung: Angebote werden eingeholt | Link: https://ausschreibungsradar.com/ausschreibung/934d3c43-b9f6-4a5f-a366-edfdfbd3efa5/
URL:https://ausschreibungsradar.com/ausschreibung/934d3c43-b9f6-4a5f-a366-edfdfbd3efa5/
END:VEVENT
BEGIN:VEVENT
UID:401bd9a192f7da66@ausschreibungsradar.com
DTSTAMP:20260424T172249Z
DTSTART;VALUE=DATE:20251127
DTEND;VALUE=DATE:20251127
SUMMARY:Ausschreibung — Rahmenvereinbarung über die Lieferung und Montage von Schulm
DESCRIPTION:Phase: Ausschreibung | Beschreibung: Offizielle Ausschreibung mit Bieterfrist. | Link: https://ausschreibungsradar.com/ausschreibung/3aee76ac-32ab-4c4e-8002-2816e675fe22/
URL:https://ausschreibungsradar.com/ausschreibung/3aee76ac-32ab-4c4e-8002-2816e675fe22/
END:VEVENT
BEGIN:VEVENT
UID:f56b002c11b36a34@ausschreibungsradar.com
DTSTAMP:20260424T172249Z
DTSTART;VALUE=DATE:20251217
DTEND;VALUE=DATE:20251217
SUMMARY:Ausschreibung — Rahmenvereinbarung über die Lieferung und Montage von Schulm
DESCRIPTION:Phase: Ausschreibung | Beschreibung: Offizielle Ausschreibung mit Bieterfrist. | Link: https://ausschreibungsradar.com/ausschreibung/1a0695b8-4d5e-419c-bc26-5c2168a993d5/
URL:https://ausschreibungsradar.com/ausschreibung/1a0695b8-4d5e-419c-bc26-5c2168a993d5/
END:VEVENT
END:VCALENDAR
