BEGIN:VCALENDAR
VERSION:2.0
PRODID:-//AusschreibungsRadar//Timeline//DE
CALSCALE:GREGORIAN
METHOD:PUBLISH
X-WR-CALNAME:Projekt Unterhalts-, Grund- und Glasreinigung für JPS-Schule in Frie
X-WR-TIMEZONE:Europe/Berlin
BEGIN:VEVENT
UID:dc5c939e648e8d1a@ausschreibungsradar.com
DTSTAMP:20260425T185003Z
DTSTART;VALUE=DATE:20250612
DTEND;VALUE=DATE:20250612
SUMMARY:Angebotsfrist — Unterhalts-\, Grund- und Glasreinigung für JPS-Schule in Frie
DESCRIPTION:Phase: Ausschreibung | Beschreibung: Angebote werden eingeholt | Link: https://ausschreibungsradar.com/ausschreibung/b371e697-a3af-4b40-9584-138c1e335aa3/
URL:https://ausschreibungsradar.com/ausschreibung/b371e697-a3af-4b40-9584-138c1e335aa3/
END:VEVENT
BEGIN:VEVENT
UID:039485fad032b34c@ausschreibungsradar.com
DTSTAMP:20260425T185003Z
DTSTART;VALUE=DATE:20250718
DTEND;VALUE=DATE:20250718
SUMMARY:Vergabeergebnis — Unterhalts-\, Grund- und Glasreinigung für JPS-Schule in Frie
DESCRIPTION:Phase: Vergabeergebnis | Beschreibung: Auftrag wurde zugeschlagen | Link: https://ausschreibungsradar.com/ausschreibung/934f06ba-a0f9-4830-8e7d-c91e6db82a0f/
URL:https://ausschreibungsradar.com/ausschreibung/934f06ba-a0f9-4830-8e7d-c91e6db82a0f/
END:VEVENT
END:VCALENDAR
