BEGIN:VCALENDAR
VERSION:2.0
PRODID:-//AusschreibungsRadar//Timeline//DE
CALSCALE:GREGORIAN
METHOD:PUBLISH
X-WR-CALNAME:Projekt ctt Lebach – Ersatzneubau des Caritas Krankenhaus_Außenanlag
X-WR-TIMEZONE:Europe/Berlin
BEGIN:VEVENT
UID:fb3ad91463b92d38@ausschreibungsradar.com
DTSTAMP:20260423T222933Z
DTSTART;VALUE=DATE:20251022
DTEND;VALUE=DATE:20251022
SUMMARY:Angebotsfrist — ctt Lebach – Ersatzneubau des Caritas Krankenhaus_Außenanlag
DESCRIPTION:Phase: Ausschreibung | Beschreibung: Angebote werden eingeholt | Link: https://ausschreibungsradar.com/ausschreibung/d2fbb858-ac05-4c29-9f51-e3471d9e7554/
URL:https://ausschreibungsradar.com/ausschreibung/d2fbb858-ac05-4c29-9f51-e3471d9e7554/
END:VEVENT
BEGIN:VEVENT
UID:10541835422ccea5@ausschreibungsradar.com
DTSTAMP:20260423T222933Z
DTSTART;VALUE=DATE:20260119
DTEND;VALUE=DATE:20260119
SUMMARY:Ausschreibung — ctt Lebach – Ersatzneubau des Caritas Krankenhaus_Außenanlag
DESCRIPTION:Phase: Ausschreibung | Beschreibung: Offizielle Ausschreibung mit Bieterfrist. | Link: https://ausschreibungsradar.com/ausschreibung/d50477df-2b3f-47f0-b855-88648f1104a3/
URL:https://ausschreibungsradar.com/ausschreibung/d50477df-2b3f-47f0-b855-88648f1104a3/
END:VEVENT
BEGIN:VEVENT
UID:62b3cfbc406fdc2e@ausschreibungsradar.com
DTSTAMP:20260423T222933Z
DTSTART;VALUE=DATE:20260128
DTEND;VALUE=DATE:20260128
SUMMARY:Zuschlag — ctt Lebach – Ersatzneubau des Caritas Krankenhaus_Außenanlag
DESCRIPTION:Phase: Zuschlag | Beschreibung: Vergabeergebnis — Auftrag wurde erteilt oder Verfahren beendet. | Link: https://ausschreibungsradar.com/ausschreibung/db32b3d5-f181-45d5-8e4f-2f882124c70e/
URL:https://ausschreibungsradar.com/ausschreibung/db32b3d5-f181-45d5-8e4f-2f882124c70e/
END:VEVENT
BEGIN:VEVENT
UID:cf7fcaa410901af1@ausschreibungsradar.com
DTSTAMP:20260423T222933Z
DTSTART;VALUE=DATE:20260129
DTEND;VALUE=DATE:20260129
SUMMARY:Vergabeergebnis — ctt Lebach – Ersatzneubau des Caritas Krankenhaus_Außenanlag
DESCRIPTION:Phase: Vergabeergebnis | Beschreibung: Auftrag wurde zugeschlagen | Link: https://ausschreibungsradar.com/ausschreibung/938b4445-a274-40bf-8d4f-4f8b84eeb6ea/ | Auftragnehmer: dittgen Bauunternehmen Gm
URL:https://ausschreibungsradar.com/ausschreibung/938b4445-a274-40bf-8d4f-4f8b84eeb6ea/
END:VEVENT
BEGIN:VEVENT
UID:26f2a23f0aa3f5b7@ausschreibungsradar.com
DTSTAMP:20260423T222933Z
DTSTART;VALUE=DATE:20260129
DTEND;VALUE=DATE:20260129
SUMMARY:Zuschlag — ctt Lebach – Ersatzneubau des Caritas Krankenhaus_Außenanlag
DESCRIPTION:Phase: Zuschlag | Beschreibung: Vergabeergebnis — Auftrag wurde erteilt oder Verfahren beendet. | Link: https://ausschreibungsradar.com/ausschreibung/4d1b3dfa-c97d-4e4e-95b2-804ebf650304/
URL:https://ausschreibungsradar.com/ausschreibung/4d1b3dfa-c97d-4e4e-95b2-804ebf650304/
END:VEVENT
BEGIN:VEVENT
UID:49eed3cb00117424@ausschreibungsradar.com
DTSTAMP:20260423T222933Z
DTSTART;VALUE=DATE:20260129
DTEND;VALUE=DATE:20260129
SUMMARY:Zuschlag — ctt Lebach – Ersatzneubau des Caritas Krankenhaus_Außenanlag
DESCRIPTION:Phase: Zuschlag | Beschreibung: Vergabeergebnis — Auftrag wurde erteilt oder Verfahren beendet. | Link: https://ausschreibungsradar.com/ausschreibung/f8912f74-960e-4b1b-a48f-801553ee071c/
URL:https://ausschreibungsradar.com/ausschreibung/f8912f74-960e-4b1b-a48f-801553ee071c/
END:VEVENT
END:VCALENDAR
