BEGIN:VCALENDAR
VERSION:2.0
PRODID:-//AusschreibungsRadar//Timeline//DE
CALSCALE:GREGORIAN
METHOD:PUBLISH
X-WR-CALNAME:Projekt GovData, Portal-Entwicklung, -Wartung und -Betrieb
X-WR-TIMEZONE:Europe/Berlin
BEGIN:VEVENT
UID:a3fc099df3ab9a75@ausschreibungsradar.com
DTSTAMP:20260424T042931Z
DTSTART;VALUE=DATE:20231218
DTEND;VALUE=DATE:20231218
SUMMARY:Ausschreibung — GovData\, Portal-Entwicklung\, -Wartung und -Betrieb
DESCRIPTION:Phase: Ausschreibung | Beschreibung: Angebote werden eingeholt | Link: https://ausschreibungsradar.com/ausschreibung/93ac5c8d-a4fa-4957-abf0-31afee0e092c/
URL:https://ausschreibungsradar.com/ausschreibung/93ac5c8d-a4fa-4957-abf0-31afee0e092c/
END:VEVENT
BEGIN:VEVENT
UID:46f60b57dd636a28@ausschreibungsradar.com
DTSTAMP:20260424T042931Z
DTSTART;VALUE=DATE:20231218
DTEND;VALUE=DATE:20231218
SUMMARY:Ausschreibung — GovData\, Portal-Entwicklung\, -Wartung und -Betrieb
DESCRIPTION:Phase: Ausschreibung | Beschreibung: Offizielle Ausschreibung mit Bieterfrist. | Link: https://ausschreibungsradar.com/ausschreibung/789a048b-b0e0-464e-a48a-389072c0c84b/
URL:https://ausschreibungsradar.com/ausschreibung/789a048b-b0e0-464e-a48a-389072c0c84b/
END:VEVENT
BEGIN:VEVENT
UID:9c6a12c2ab4b9d33@ausschreibungsradar.com
DTSTAMP:20260424T042931Z
DTSTART;VALUE=DATE:20240415
DTEND;VALUE=DATE:20240415
SUMMARY:Vergabeergebnis — GovData\, Portal-Entwicklung\, -Wartung und -Betrieb
DESCRIPTION:Phase: Vergabeergebnis | Beschreibung: Auftrag wurde zugeschlagen | Link: https://ausschreibungsradar.com/ausschreibung/c3b313cd-4dd4-40bf-863e-8eeea401a369/
URL:https://ausschreibungsradar.com/ausschreibung/c3b313cd-4dd4-40bf-863e-8eeea401a369/
END:VEVENT
END:VCALENDAR
