BEGIN:VCALENDAR
VERSION:2.0
PRODID:-//AusschreibungsRadar//Timeline//DE
CALSCALE:GREGORIAN
METHOD:PUBLISH
X-WR-CALNAME:Projekt Rahmenvertrag Lieferung von Schulmöbeln
X-WR-TIMEZONE:Europe/Berlin
BEGIN:VEVENT
UID:28cf1a759009112e@ausschreibungsradar.com
DTSTAMP:20260425T202346Z
DTSTART;VALUE=DATE:20251022
DTEND;VALUE=DATE:20251022
SUMMARY:Ausschreibung — Rahmenvertrag Lieferung von Schulmöbeln
DESCRIPTION:Phase: Ausschreibung | Beschreibung: Angebote werden eingeholt | Link: https://ausschreibungsradar.com/ausschreibung/93ba84c8-325f-41cf-a515-6c379ebf3c95/ | Geschätzter Wert: 1200000 €
URL:https://ausschreibungsradar.com/ausschreibung/93ba84c8-325f-41cf-a515-6c379ebf3c95/
END:VEVENT
BEGIN:VEVENT
UID:bf4dc7ab872414d0@ausschreibungsradar.com
DTSTAMP:20260425T202346Z
DTSTART;VALUE=DATE:20260304
DTEND;VALUE=DATE:20260304
SUMMARY:Vergabeergebnis — Rahmenvertrag Lieferung von Schulmöbeln
DESCRIPTION:Phase: Vergabeergebnis | Beschreibung: Auftrag wurde zugeschlagen | Link: https://ausschreibungsradar.com/ausschreibung/996664af-838f-4a39-b88d-9bbab6f01ed9/ | Geschätzter Wert: 1200000 €
URL:https://ausschreibungsradar.com/ausschreibung/996664af-838f-4a39-b88d-9bbab6f01ed9/
END:VEVENT
END:VCALENDAR
