BEGIN:VCALENDAR
VERSION:2.0
PRODID:-//AusschreibungsRadar//Timeline//DE
CALSCALE:GREGORIAN
METHOD:PUBLISH
X-WR-CALNAME:Projekt 0150 - Gemeinde Hohenthann - Sanierung Freibad Hohenthann - 
X-WR-TIMEZONE:Europe/Berlin
BEGIN:VEVENT
UID:15be84be6d85989f@ausschreibungsradar.com
DTSTAMP:20260426T024954Z
DTSTART;VALUE=DATE:20231106
DTEND;VALUE=DATE:20231106
SUMMARY:Ausschreibung — 0150 - Gemeinde Hohenthann - Sanierung Freibad Hohenthann - 
DESCRIPTION:Phase: Ausschreibung | Beschreibung: Angebote werden eingeholt | Link: https://ausschreibungsradar.com/ausschreibung/94829892-9d6e-41f2-b99f-faa7fd0c19ad/ | Geschätzter Wert: 240000 €
URL:https://ausschreibungsradar.com/ausschreibung/94829892-9d6e-41f2-b99f-faa7fd0c19ad/
END:VEVENT
BEGIN:VEVENT
UID:db2aac0c8cf34bd7@ausschreibungsradar.com
DTSTAMP:20260426T024954Z
DTSTART;VALUE=DATE:20231106
DTEND;VALUE=DATE:20231106
SUMMARY:Ausschreibung — 0150 - Gemeinde Hohenthann - Sanierung Freibad Hohenthann - 
DESCRIPTION:Phase: Ausschreibung | Beschreibung: Offizielle Ausschreibung mit Bieterfrist. | Link: https://ausschreibungsradar.com/ausschreibung/fb195d96-15dc-47bf-9181-72885880a7b6/
URL:https://ausschreibungsradar.com/ausschreibung/fb195d96-15dc-47bf-9181-72885880a7b6/
END:VEVENT
BEGIN:VEVENT
UID:9f670a1785f13c14@ausschreibungsradar.com
DTSTAMP:20260426T024954Z
DTSTART;VALUE=DATE:20240228
DTEND;VALUE=DATE:20240228
SUMMARY:Vergabeergebnis — 0150 - Gemeinde Hohenthann - Sanierung Freibad Hohenthann - 
DESCRIPTION:Phase: Vergabeergebnis | Beschreibung: Auftrag wurde zugeschlagen | Link: https://ausschreibungsradar.com/ausschreibung/8f66c6f8-2d15-4c9d-ba76-457bed55fce7/
URL:https://ausschreibungsradar.com/ausschreibung/8f66c6f8-2d15-4c9d-ba76-457bed55fce7/
END:VEVENT
END:VCALENDAR
