BEGIN:VCALENDAR
VERSION:2.0
PRODID:-//AusschreibungsRadar//Timeline//DE
CALSCALE:GREGORIAN
METHOD:PUBLISH
X-WR-CALNAME:Projekt Einbausportgeräte
X-WR-TIMEZONE:Europe/Berlin
BEGIN:VEVENT
UID:4d67cc80e841a694@ausschreibungsradar.com
DTSTAMP:20260424T042652Z
DTSTART;VALUE=DATE:20250522
DTEND;VALUE=DATE:20250522
SUMMARY:Angebotsfrist — Einbausportgeräte
DESCRIPTION:Phase: Ausschreibung | Beschreibung: Angebote werden eingeholt | Link: https://ausschreibungsradar.com/ausschreibung/6546ef2a-39c2-4c32-aadb-3c9d9909e97e/
URL:https://ausschreibungsradar.com/ausschreibung/6546ef2a-39c2-4c32-aadb-3c9d9909e97e/
END:VEVENT
BEGIN:VEVENT
UID:89b92b27c760e45a@ausschreibungsradar.com
DTSTAMP:20260424T042652Z
DTSTART;VALUE=DATE:20250808
DTEND;VALUE=DATE:20250808
SUMMARY:Vergabeergebnis — Einbausportgeräte
DESCRIPTION:Phase: Vergabeergebnis | Beschreibung: Auftrag wurde zugeschlagen | Link: https://ausschreibungsradar.com/ausschreibung/9586cc5e-5340-44cf-8a31-e62ec41c6cdf/ | Auftragnehmer: Gotthilf Benz Turngerätef
URL:https://ausschreibungsradar.com/ausschreibung/9586cc5e-5340-44cf-8a31-e62ec41c6cdf/
END:VEVENT
END:VCALENDAR
