BEGIN:VCALENDAR
VERSION:2.0
PRODID:-//AusschreibungsRadar//Timeline//DE
CALSCALE:GREGORIAN
METHOD:PUBLISH
X-WR-CALNAME:Projekt Wohnquartier "Auf der Freiheit", Schleswig - Vorzeigeprojekt
X-WR-TIMEZONE:Europe/Berlin
BEGIN:VEVENT
UID:e0624f4d4604a25a@ausschreibungsradar.com
DTSTAMP:20260426T005933Z
DTSTART;VALUE=DATE:20240213
DTEND;VALUE=DATE:20240213
SUMMARY:Angebotsfrist — Wohnquartier "Auf der Freiheit"\, Schleswig - Vorzeigeprojekt
DESCRIPTION:Phase: Ausschreibung | Beschreibung: Angebote werden eingeholt | Link: https://ausschreibungsradar.com/ausschreibung/960bd792-6bea-4052-992f-af866f851675/
URL:https://ausschreibungsradar.com/ausschreibung/960bd792-6bea-4052-992f-af866f851675/
END:VEVENT
BEGIN:VEVENT
UID:489296380c9c3ff9@ausschreibungsradar.com
DTSTAMP:20260426T005933Z
DTSTART;VALUE=DATE:20240111
DTEND;VALUE=DATE:20240111
SUMMARY:Ausschreibung — Wohnquartier "Auf der Freiheit"\, Schleswig - Vorzeigeprojekt
DESCRIPTION:Phase: Ausschreibung | Beschreibung: Offizielle Ausschreibung mit Bieterfrist. | Link: https://ausschreibungsradar.com/ausschreibung/21ddfd04-5eb7-40b3-afc7-bd8921844551/
URL:https://ausschreibungsradar.com/ausschreibung/21ddfd04-5eb7-40b3-afc7-bd8921844551/
END:VEVENT
END:VCALENDAR
