BEGIN:VCALENDAR
VERSION:2.0
PRODID:-//AusschreibungsRadar//Timeline//DE
CALSCALE:GREGORIAN
METHOD:PUBLISH
X-WR-CALNAME:Projekt Prüfung des Jahresabschlusses und weitere Prüfungen
X-WR-TIMEZONE:Europe/Berlin
BEGIN:VEVENT
UID:c21166f23204c535@ausschreibungsradar.com
DTSTAMP:20260424T020925Z
DTSTART;VALUE=DATE:20250630
DTEND;VALUE=DATE:20250630
SUMMARY:Angebotsfrist — Prüfung des Jahresabschlusses und weitere Prüfungen
DESCRIPTION:Phase: Ausschreibung | Beschreibung: Angebote werden eingeholt | Link: https://ausschreibungsradar.com/ausschreibung/40e4b13f-0137-4aca-81dc-56beb7623d47/
URL:https://ausschreibungsradar.com/ausschreibung/40e4b13f-0137-4aca-81dc-56beb7623d47/
END:VEVENT
BEGIN:VEVENT
UID:f343b006a4424b19@ausschreibungsradar.com
DTSTAMP:20260424T020925Z
DTSTART;VALUE=DATE:20250916
DTEND;VALUE=DATE:20250916
SUMMARY:Vergabeergebnis — Prüfung des Jahresabschlusses und weitere Prüfungen
DESCRIPTION:Phase: Vergabeergebnis | Beschreibung: Auftrag wurde zugeschlagen | Link: https://ausschreibungsradar.com/ausschreibung/9633dc3b-33d8-4fa4-bf7c-68aa2b1e5f59/
URL:https://ausschreibungsradar.com/ausschreibung/9633dc3b-33d8-4fa4-bf7c-68aa2b1e5f59/
END:VEVENT
END:VCALENDAR
