BEGIN:VCALENDAR
VERSION:2.0
PRODID:-//AusschreibungsRadar//Timeline//DE
CALSCALE:GREGORIAN
METHOD:PUBLISH
X-WR-CALNAME:Projekt Gemeinde Wedemark - Neubau Feuerwehrgerätehaus Meitze/Gailho
X-WR-TIMEZONE:Europe/Berlin
BEGIN:VEVENT
UID:4759118b822d7ac1@ausschreibungsradar.com
DTSTAMP:20260426T013523Z
DTSTART;VALUE=DATE:20241010
DTEND;VALUE=DATE:20241010
SUMMARY:Ausschreibung — Gemeinde Wedemark - Neubau Feuerwehrgerätehaus Meitze/Gailho
DESCRIPTION:Phase: Ausschreibung | Beschreibung: Angebote werden eingeholt | Link: https://ausschreibungsradar.com/ausschreibung/97cd1010-5599-4b60-a84b-15a42ef08a09/
URL:https://ausschreibungsradar.com/ausschreibung/97cd1010-5599-4b60-a84b-15a42ef08a09/
END:VEVENT
BEGIN:VEVENT
UID:de3d3ea29e1bce93@ausschreibungsradar.com
DTSTAMP:20260426T013523Z
DTSTART;VALUE=DATE:20241010
DTEND;VALUE=DATE:20241010
SUMMARY:Ausschreibung — Gemeinde Wedemark - Neubau Feuerwehrgerätehaus Meitze/Gailho
DESCRIPTION:Phase: Ausschreibung | Beschreibung: Offizielle Ausschreibung mit Bieterfrist. | Link: https://ausschreibungsradar.com/ausschreibung/e7eb21e4-b1fc-4f91-b18d-273543353eb9/
URL:https://ausschreibungsradar.com/ausschreibung/e7eb21e4-b1fc-4f91-b18d-273543353eb9/
END:VEVENT
BEGIN:VEVENT
UID:3e0069d676d1c8e8@ausschreibungsradar.com
DTSTAMP:20260426T013523Z
DTSTART;VALUE=DATE:20241011
DTEND;VALUE=DATE:20241011
SUMMARY:Ausschreibung — Gemeinde Wedemark - Neubau Feuerwehrgerätehaus Meitze/Gailho
DESCRIPTION:Phase: Ausschreibung | Beschreibung: Offizielle Ausschreibung mit Bieterfrist. | Link: https://ausschreibungsradar.com/ausschreibung/ted-615913-2024/
URL:https://ausschreibungsradar.com/ausschreibung/ted-615913-2024/
END:VEVENT
BEGIN:VEVENT
UID:02b4446ad7fa6e82@ausschreibungsradar.com
DTSTAMP:20260426T013523Z
DTSTART;VALUE=DATE:20250306
DTEND;VALUE=DATE:20250306
SUMMARY:Vergabeergebnis — Gemeinde Wedemark - Neubau Feuerwehrgerätehaus Meitze/Gailho
DESCRIPTION:Phase: Vergabeergebnis | Beschreibung: Auftrag wurde zugeschlagen | Link: https://ausschreibungsradar.com/ausschreibung/a951a26a-e07b-4c12-883b-55f5d1a079bf/ | Geschätzter Wert: 628147 €
URL:https://ausschreibungsradar.com/ausschreibung/a951a26a-e07b-4c12-883b-55f5d1a079bf/
END:VEVENT
END:VCALENDAR
