BEGIN:VCALENDAR
VERSION:2.0
PRODID:-//AusschreibungsRadar//Timeline//DE
CALSCALE:GREGORIAN
METHOD:PUBLISH
X-WR-CALNAME:Projekt Unterhaltsreinigung an Berufsbildenden Schulen und Fördersch
X-WR-TIMEZONE:Europe/Berlin
BEGIN:VEVENT
UID:b48978b3d2e4f24e@ausschreibungsradar.com
DTSTAMP:20260424T211621Z
DTSTART;VALUE=DATE:20251114
DTEND;VALUE=DATE:20251114
SUMMARY:Ausschreibung — Unterhaltsreinigung an Berufsbildenden Schulen und Fördersch
DESCRIPTION:Phase: Ausschreibung | Beschreibung: Angebote werden eingeholt | Link: https://ausschreibungsradar.com/ausschreibung/024db8dd-ab78-443a-9ff2-4450777b9dcd/
URL:https://ausschreibungsradar.com/ausschreibung/024db8dd-ab78-443a-9ff2-4450777b9dcd/
END:VEVENT
BEGIN:VEVENT
UID:55cfa9916ab2dd8f@ausschreibungsradar.com
DTSTAMP:20260424T211621Z
DTSTART;VALUE=DATE:20260212
DTEND;VALUE=DATE:20260212
SUMMARY:Vergabeergebnis — Unterhaltsreinigung an Berufsbildenden Schulen und Fördersch
DESCRIPTION:Phase: Vergabeergebnis | Beschreibung: Auftrag wurde zugeschlagen | Link: https://ausschreibungsradar.com/ausschreibung/97d7c975-e69e-4834-91e3-fdf8b36b95de/
URL:https://ausschreibungsradar.com/ausschreibung/97d7c975-e69e-4834-91e3-fdf8b36b95de/
END:VEVENT
END:VCALENDAR
